BEGIN:VCALENDAR
VERSION:2.0
PRODID:-//FOS Lange Wapper - ECPv6.15.20//NONSGML v1.0//EN
CALSCALE:GREGORIAN
METHOD:PUBLISH
X-ORIGINAL-URL:https://langewapper.be
X-WR-CALDESC:Evenementen voor FOS Lange Wapper
REFRESH-INTERVAL;VALUE=DURATION:PT1H
X-Robots-Tag:noindex
X-PUBLISHED-TTL:PT1H
BEGIN:VTIMEZONE
TZID:UTC
BEGIN:STANDARD
TZOFFSETFROM:+0000
TZOFFSETTO:+0000
TZNAME:UTC
DTSTART:20250101T000000
END:STANDARD
END:VTIMEZONE
BEGIN:VEVENT
DTSTART;VALUE=DATE:20260426
DTEND;VALUE=DATE:20260427
DTSTAMP:20260423T232941
CREATED:20260221T111612Z
LAST-MODIFIED:20260221T111612Z
UID:8463-1777161600-1777247999@langewapper.be
SUMMARY:Geen bijeenkomst - 10 Miles
DESCRIPTION:Vanwege de organisatie van de 10 Miles is er op zondag 26 april geen bijeenkomst.
URL:https://langewapper.be/event/geen-bijeenkomst-10-miles/
CATEGORIES:Aspiranten,Welpen,Wolven,Zeehonden
END:VEVENT
BEGIN:VEVENT
DTSTART;VALUE=DATE:20260426
DTEND;VALUE=DATE:20260427
DTSTAMP:20260423T232941
CREATED:20260221T154638Z
LAST-MODIFIED:20260221T154638Z
UID:8518-1777161600-1777247999@langewapper.be
SUMMARY:Ten Miles dichter bij ons buitenlands kamp!
DESCRIPTION:Info over de Ten Miles volgt later
URL:https://langewapper.be/event/ten-miles-dichter-bij-ons-buitenlands-kamp/
CATEGORIES:Seniors
END:VEVENT
BEGIN:VEVENT
DTSTART;TZID=UTC:20260503T094500
DTEND;TZID=UTC:20260503T170000
DTSTAMP:20260423T232941
CREATED:20260421T092202Z
LAST-MODIFIED:20260421T092202Z
UID:8690-1777801500-1777827600@langewapper.be
SUMMARY:Opening vaarseizoen
DESCRIPTION:Bijeenkomst: 9u45 basis in TIP-TOP zomeruniform \nMeebrengen: 4-uurtje\, lunch\, 5 euro en speelkledij \nEinde: 17u basis \nVier samen met de hele eenheid het Opening Vaarseizoen van 10u-17u (ceremonie\, receptie\, familie-activiteit…!) \nAansluitend: Kippenfestijn
URL:https://langewapper.be/event/opening-vaarseizoen-2/
CATEGORIES:Aspiranten,Juniors,Seniors,Welpen,Wolven,Zeehonden
END:VEVENT
BEGIN:VEVENT
DTSTART;TZID=UTC:20260503T094500
DTEND;TZID=UTC:20260503T183000
DTSTAMP:20260423T232941
CREATED:20251215T210557Z
LAST-MODIFIED:20260421T180700Z
UID:8039-1777801500-1777833000@langewapper.be
SUMMARY:Opening Vaarseizoen 2026 & Kippenfestijn
DESCRIPTION:De scouts en gidsen van de 1ste FOS Lange Wapper nodigen u uit op hun opening vaarseizoen. \nZondag 3 mei 2026 \n\n10u: Koffiebar & theebar\n11u: 1ste FOS Lange Wapper opent voor de 112de keer plechtig het vaarseizoen.\n\nGastspreker: Ingrid Vermeir – Directeur van GO! De Scheepvaartschool\n\n\n12u: Receptie met vrolijke zanger accordeonist Speelman Iwein\n\nHapje\, tapje…. gezelligheid troef in de Meermin en op het zonneterras.\nDoorlopend eet- en drankstandjes.\nFamilieactiviteiten voor ouders en leden\n\n\n17u: KIPPENFESTIJN (hier inschrijven)
URL:https://langewapper.be/event/opening-vaarseizoen-2026/
LOCATION:Basis\, Beatrijslijn 41\, Antwerpen\, 2050\, Belgium
CATEGORIES:de Wapperse Familie,Slepers
END:VEVENT
BEGIN:VEVENT
DTSTART;TZID=UTC:20260503T173000
DTEND;TZID=UTC:20260503T193000
DTSTAMP:20260423T232941
CREATED:20251230T220354Z
LAST-MODIFIED:20260421T174219Z
UID:8208-1777829400-1777836600@langewapper.be
SUMMARY:Wapperse kost
DESCRIPTION:zie HIER
URL:https://langewapper.be/event/preview-volgende-wapperse-kost/
LOCATION:Basis\, Beatrijslijn 41\, Antwerpen\, 2050\, Belgium
CATEGORIES:Wapperse Kost
END:VEVENT
BEGIN:VEVENT
DTSTART;VALUE=DATE:20260509
DTEND;VALUE=DATE:20260511
DTSTAMP:20260423T232941
CREATED:20260421T121848Z
LAST-MODIFIED:20260421T121848Z
UID:8763-1778284800-1778457599@langewapper.be
SUMMARY:Theater Aan 't Water
DESCRIPTION:Info heeft u via mail/infomoment meegekregen \nWe hopen samen met alle ouders een fijn theaterweekend en inzamelactie voor onze seniors te kunnen doen. U komt toch ook?! #Kroatie
URL:https://langewapper.be/event/theater-aan-t-water/
CATEGORIES:Seniors
END:VEVENT
BEGIN:VEVENT
DTSTART;TZID=UTC:20260510T094500
DTEND;TZID=UTC:20260510T170000
DTSTAMP:20260423T232941
CREATED:20260421T100131Z
LAST-MODIFIED:20260421T100131Z
UID:8708-1778406300-1778432400@langewapper.be
SUMMARY:Maffiadag
DESCRIPTION:Bijeenkomst: 9u45 basis in Tip-Top zomeruniform \nMeebrengen: Lunch\, 4-uurtje\, speelkledij \nEinde: 17u basis
URL:https://langewapper.be/event/maffiadag/
CATEGORIES:Welpen
END:VEVENT
BEGIN:VEVENT
DTSTART;TZID=UTC:20260510T094500
DTEND;TZID=UTC:20260510T170000
DTSTAMP:20260423T232941
CREATED:20260421T113214Z
LAST-MODIFIED:20260421T113214Z
UID:8737-1778406300-1778432400@langewapper.be
SUMMARY:Galgenweel laat je likken!
DESCRIPTION:Bijeenkomst: 9u45 basis in Tip-Top zomeruniform \nMeebrengen: Lunch\, 4-uurtje\, zeilkledij \nEinde: 17u basis
URL:https://langewapper.be/event/galgenweel-laat-je-likken/
CATEGORIES:Aspiranten
END:VEVENT
BEGIN:VEVENT
DTSTART;TZID=UTC:20260510T094500
DTEND;TZID=UTC:20260510T170000
DTSTAMP:20260423T232941
CREATED:20260421T114657Z
LAST-MODIFIED:20260421T114657Z
UID:8749-1778406300-1778432400@langewapper.be
SUMMARY:Kasseien omdraaien?!
DESCRIPTION:Bijeenkomst: 9u45 basis in Tip-Top zomeruniform \nMeebrengen: Lunch\, 4-uurtje\, speelkeldij \nEinde: 17u basis
URL:https://langewapper.be/event/kasseien-omdraaien/
CATEGORIES:Juniors
END:VEVENT
BEGIN:VEVENT
DTSTART;TZID=UTC:20260510T130000
DTEND;TZID=UTC:20260510T170000
DTSTAMP:20260423T232941
CREATED:20260421T092549Z
LAST-MODIFIED:20260421T092549Z
UID:8692-1778418000-1778432400@langewapper.be
SUMMARY:Waar zijn al die mooie mama's
DESCRIPTION:Bijeenkomst: 13u basis in TIP-TOP zomeruniform \nMeebrengen: ‘-uurtje\, speelkledij \nEinde: 17u basis
URL:https://langewapper.be/event/waar-zijn-al-die-mooie-mamas/
CATEGORIES:Zeehonden
END:VEVENT
BEGIN:VEVENT
DTSTART;TZID=UTC:20260510T173000
DTEND;TZID=UTC:20260510T193000
DTSTAMP:20260423T232941
CREATED:20260421T173450Z
LAST-MODIFIED:20260421T173450Z
UID:8781-1778434200-1778441400@langewapper.be
SUMMARY:Wapperse kost
DESCRIPTION:zie HIER
URL:https://langewapper.be/event/wapperse-kost-3/
CATEGORIES:Wapperse Kost
END:VEVENT
BEGIN:VEVENT
DTSTART;VALUE=DATE:20260515
DTEND;VALUE=DATE:20260518
DTSTAMP:20260423T232941
CREATED:20251215T210736Z
LAST-MODIFIED:20251215T210736Z
UID:8041-1778803200-1779062399@langewapper.be
SUMMARY:Zeil aan Zee
DESCRIPTION:meer info volgt
URL:https://langewapper.be/event/zeil-aan-zee-2/
CATEGORIES:Activiteiten
END:VEVENT
BEGIN:VEVENT
DTSTART;VALUE=DATE:20260515
DTEND;VALUE=DATE:20260518
DTSTAMP:20260423T232941
CREATED:20260421T093143Z
LAST-MODIFIED:20260421T191204Z
UID:8694-1778803200-1779062399@langewapper.be
SUMMARY:Zeil Aan Zee
DESCRIPTION:Een weekend vol Wappers plezier op de Blankenbergse havenfeesten. Kom met je gezin mee kamperen! \nInschrijven: HIER \nGeen andere scoutsactiviteiten op zondag!
URL:https://langewapper.be/event/zeil-aan-zee-3/
LOCATION:9e FOS Wandelaar (achteringang)\, Wenduinsesteenweg 16\, Blankenberge\, 8370\, Belgium
CATEGORIES:Aspiranten,de Wapperse Familie,Juniors,Welpen,Wolven,Zeehonden
END:VEVENT
BEGIN:VEVENT
DTSTART;TZID=UTC:20260516T094500
DTEND;TZID=UTC:20260517T190000
DTSTAMP:20260423T232941
CREATED:20260421T093437Z
LAST-MODIFIED:20260421T093437Z
UID:8696-1778924700-1779044400@langewapper.be
SUMMARY:Z-z-zeilen
DESCRIPTION:Bijeenkomst: Zaterdag 9u45 basis in Tip-Top zomeruniform \nMeebrengen: Zeilgerief\, weekendgerief\, zie inschrijvingen Keeo \nEinde: Zondag 19u basis
URL:https://langewapper.be/event/z-z-zeilen/
CATEGORIES:Seniors
END:VEVENT
BEGIN:VEVENT
DTSTART;TZID=UTC:20260517T173000
DTEND;TZID=UTC:20260517T193000
DTSTAMP:20260423T232941
CREATED:20260421T173528Z
LAST-MODIFIED:20260421T173528Z
UID:8783-1779039000-1779046200@langewapper.be
SUMMARY:Wapperse kost
DESCRIPTION:zie HIER
URL:https://langewapper.be/event/wapperse-kost-4/
CATEGORIES:Wapperse Kost
END:VEVENT
BEGIN:VEVENT
DTSTART;VALUE=DATE:20260524
DTEND;VALUE=DATE:20260525
DTSTAMP:20260423T232941
CREATED:20250917T210356Z
LAST-MODIFIED:20250917T210356Z
UID:4852-1779580800-1779667199@langewapper.be
SUMMARY:Sportdag
DESCRIPTION:Zeilen is ook een sport\, net zoals bier drinken
URL:https://langewapper.be/event/sportdag/
END:VEVENT
BEGIN:VEVENT
DTSTART;TZID=UTC:20260524T094500
DTEND;TZID=UTC:20260524T170000
DTSTAMP:20260423T232941
CREATED:20260421T100413Z
LAST-MODIFIED:20260421T100413Z
UID:8710-1779615900-1779642000@langewapper.be
SUMMARY:Welpen splashdag
DESCRIPTION:Bijeenkomst: 9u45 basis in Tip-Top zomeruniform \nMeebrengen: Lunch\, 4-uurtje en speelkledij/zwemkledij \nEinde: 17u basis
URL:https://langewapper.be/event/welpen-splashdag/
CATEGORIES:Welpen
END:VEVENT
BEGIN:VEVENT
DTSTART;TZID=UTC:20260524T094500
DTEND;TZID=UTC:20260524T170000
DTSTAMP:20260423T232941
CREATED:20260421T111830Z
LAST-MODIFIED:20260421T111830Z
UID:8724-1779615900-1779642000@langewapper.be
SUMMARY:Zeil je voor het eerst?!
DESCRIPTION:Bijeenkomst: 9u45 basis in Tip-Top zomeruniform \nMeebrengen: Lunch\, 4-uurtje en zeilkledij \nEinde: 17u basis
URL:https://langewapper.be/event/zeil-je-voor-het-eerst-2/
CATEGORIES:Wolven
END:VEVENT
BEGIN:VEVENT
DTSTART;TZID=UTC:20260524T094500
DTEND;TZID=UTC:20260524T170000
DTSTAMP:20260423T232941
CREATED:20260421T113412Z
LAST-MODIFIED:20260421T113412Z
UID:8739-1779615900-1779642000@langewapper.be
SUMMARY:LW olympics!!
DESCRIPTION:Bijeenkomst: 9u45 basis in Tip-Top zomeruniform \nMeebrengen: Lunch\, 4-uurtje en speelkledij \nEinde: 17u basis
URL:https://langewapper.be/event/lw-olympics/
CATEGORIES:Aspiranten
END:VEVENT
BEGIN:VEVENT
DTSTART;TZID=UTC:20260524T094500
DTEND;TZID=UTC:20260524T170000
DTSTAMP:20260423T232941
CREATED:20260421T114851Z
LAST-MODIFIED:20260421T114851Z
UID:8751-1779615900-1779642000@langewapper.be
SUMMARY:Carwashhh Timeeeeee
DESCRIPTION:Bijeenkomst: 9u45 basis in Tip-Top zomeruniform \nMeebrengen: Lunch\, 4-uurtje en speelkledij \nEinde: 17u basis
URL:https://langewapper.be/event/carwashhh-timeeeeee/
CATEGORIES:Juniors
END:VEVENT
BEGIN:VEVENT
DTSTART;TZID=UTC:20260524T094500
DTEND;TZID=UTC:20260524T170000
DTSTAMP:20260423T232941
CREATED:20260421T122426Z
LAST-MODIFIED:20260421T122426Z
UID:8765-1779615900-1779642000@langewapper.be
SUMMARY:Ey Hallo Boys Ollé
DESCRIPTION:Bijeenkomst: 9u45 basis in Tip-Top zomeruniform \nMeebrengen: Lunch\, 4-uurtje en speelkledij\, é euro (voor de badge) \nEinde: 17 uur basis
URL:https://langewapper.be/event/ey-hallo-boys-olle/
CATEGORIES:Seniors
END:VEVENT
BEGIN:VEVENT
DTSTART;TZID=UTC:20260524T130000
DTEND;TZID=UTC:20260524T170000
DTSTAMP:20260423T232941
CREATED:20260421T094159Z
LAST-MODIFIED:20260421T094159Z
UID:8700-1779627600-1779642000@langewapper.be
SUMMARY:Oh nee\, Nemo is verdwenen
DESCRIPTION:Bijeenkomst: 13u basis in Tip-Top zomeruniform \nMeebrengen: 4-uurtje en speelkledij \nEinde: 17u basis
URL:https://langewapper.be/event/oh-nee-nemo-is-verdwenen/
CATEGORIES:Zeehonden
END:VEVENT
BEGIN:VEVENT
DTSTART;TZID=UTC:20260524T173000
DTEND;TZID=UTC:20260524T193000
DTSTAMP:20260423T232941
CREATED:20260421T173917Z
LAST-MODIFIED:20260421T173917Z
UID:8787-1779643800-1779651000@langewapper.be
SUMMARY:Wapperse kost
DESCRIPTION:zie HIER
URL:https://langewapper.be/event/wapperse-kost-6/
CATEGORIES:Wapperse Kost
END:VEVENT
BEGIN:VEVENT
DTSTART;TZID=UTC:20260530T180000
DTEND;TZID=UTC:20260530T210000
DTSTAMP:20260423T232941
CREATED:20260421T112108Z
LAST-MODIFIED:20260421T112108Z
UID:8726-1780164000-1780174800@langewapper.be
SUMMARY:Barbie-Q
DESCRIPTION:Bijeenkomst: Zaterdag 18u basis in Tip-Top zomeruniform \nMeebrengen: Een vleesje/veggie snack voor op de barbecue\, 3 euro \nEinde: 21u basis
URL:https://langewapper.be/event/barbie-q/
CATEGORIES:Wolven
END:VEVENT
BEGIN:VEVENT
DTSTART;VALUE=DATE:20260531
DTEND;VALUE=DATE:20260601
DTSTAMP:20260423T232941
CREATED:20260421T110150Z
LAST-MODIFIED:20260421T110150Z
UID:8712-1780185600-1780271999@langewapper.be
SUMMARY:Geen bijeenkomst
DESCRIPTION:Leiding heeft Examens
URL:https://langewapper.be/event/geen-bijeenkomst-9/
CATEGORIES:Welpen
END:VEVENT
BEGIN:VEVENT
DTSTART;VALUE=DATE:20260531
DTEND;VALUE=DATE:20260601
DTSTAMP:20260423T232941
CREATED:20260421T115033Z
LAST-MODIFIED:20260421T115033Z
UID:8753-1780185600-1780271999@langewapper.be
SUMMARY:Geen bijeenkomst
DESCRIPTION:Leiding heeft examens
URL:https://langewapper.be/event/geen-bijeenkomst-13/
CATEGORIES:Juniors
END:VEVENT
BEGIN:VEVENT
DTSTART;TZID=UTC:20260531T094500
DTEND;TZID=UTC:20260531T170000
DTSTAMP:20260423T232941
CREATED:20260421T122704Z
LAST-MODIFIED:20260421T122704Z
UID:8767-1780220700-1780246800@langewapper.be
SUMMARY:Das Wasser
DESCRIPTION:Bijeenkomst: 9u45 basis in Tip-Top uniform \nMeebrengen: Zwemkledij\, handdoek\, lunch\, 4-uurtje \nEinde: 17u
URL:https://langewapper.be/event/das-wasser/
CATEGORIES:Seniors
END:VEVENT
BEGIN:VEVENT
DTSTART;TZID=UTC:20260531T130000
DTEND;TZID=UTC:20260531T170000
DTSTAMP:20260423T232941
CREATED:20260421T094438Z
LAST-MODIFIED:20260421T094438Z
UID:8702-1780232400-1780246800@langewapper.be
SUMMARY:Willen jullie Peter Pan Helpen?
DESCRIPTION:Bijeenkomst: 13u basis in Tip-Top zomeruniform \nMeebrengen: 4-uurtje en speelkledij \nEinde: 17u basis
URL:https://langewapper.be/event/willen-jullie-peter-pan-helpen/
CATEGORIES:Zeehonden
END:VEVENT
BEGIN:VEVENT
DTSTART;TZID=UTC:20260531T173000
DTEND;TZID=UTC:20260531T193000
DTSTAMP:20260423T232941
CREATED:20260421T173623Z
LAST-MODIFIED:20260421T173746Z
UID:8785-1780248600-1780255800@langewapper.be
SUMMARY:Wapperse kost
DESCRIPTION:zie HIER
URL:https://langewapper.be/event/wapperse-kost-5/
LOCATION:Basis\, Beatrijslijn 41\, Antwerpen\, 2050\, Belgium
CATEGORIES:Wapperse Kost
END:VEVENT
BEGIN:VEVENT
DTSTART;TZID=UTC:20260531T190000
DTEND;TZID=UTC:20260531T210000
DTSTAMP:20260423T232941
CREATED:20260421T113602Z
LAST-MODIFIED:20260421T113602Z
UID:8741-1780254000-1780261200@langewapper.be
SUMMARY:Zonsondergang op het water
DESCRIPTION:Bijeenkomst: 19u basis in Tip-Top zomeruniform \nMeebrengen: Lunch\, 4-uurtje en zeilkledij \nEinde: 21u basis
URL:https://langewapper.be/event/zonsondergang-op-het-water/
CATEGORIES:Aspiranten
END:VEVENT
END:VCALENDAR