BEGIN:VCALENDAR
VERSION:2.0
PRODID:-//FOS Lange Wapper - ECPv6.15.20//NONSGML v1.0//EN
CALSCALE:GREGORIAN
METHOD:PUBLISH
X-ORIGINAL-URL:https://langewapper.be
X-WR-CALDESC:Evenementen voor FOS Lange Wapper
REFRESH-INTERVAL;VALUE=DURATION:PT1H
X-Robots-Tag:noindex
X-PUBLISHED-TTL:PT1H
BEGIN:VTIMEZONE
TZID:UTC
BEGIN:STANDARD
TZOFFSETFROM:+0000
TZOFFSETTO:+0000
TZNAME:UTC
DTSTART:20250101T000000
END:STANDARD
END:VTIMEZONE
BEGIN:VEVENT
DTSTART;TZID=UTC:20260614T094500
DTEND;TZID=UTC:20260614T170000
DTSTAMP:20260423T102856
CREATED:20260421T120507Z
LAST-MODIFIED:20260421T120507Z
UID:8757-1781430300-1781456400@langewapper.be
SUMMARY:Meester Miel - Studeren op de scouts
DESCRIPTION:Bijeenkomst: 9u45 basis in Tip-Top zomeruniform \nMeebrengen: Lunch\, 4-uurtje en speelkledij \nEinde: 17u basis
URL:https://langewapper.be/event/meester-miel-studeren-op-de-scouts/
CATEGORIES:Juniors
END:VEVENT
BEGIN:VEVENT
DTSTART;TZID=UTC:20260614T173000
DTEND;TZID=UTC:20260614T193000
DTSTAMP:20260423T102856
CREATED:20260421T174056Z
LAST-MODIFIED:20260421T174056Z
UID:8791-1781458200-1781465400@langewapper.be
SUMMARY:Wapperse kost
DESCRIPTION:zie HIER
URL:https://langewapper.be/event/wapperse-kost-8/
CATEGORIES:Wapperse Kost
END:VEVENT
BEGIN:VEVENT
DTSTART;TZID=UTC:20260619T200000
DTEND;TZID=UTC:20260621T170000
DTSTAMP:20260423T102856
CREATED:20260421T120845Z
LAST-MODIFIED:20260421T123505Z
UID:8759-1781899200-1782061200@langewapper.be
SUMMARY:Lillo Lexy Flexy Weekend
DESCRIPTION:Bijeenkomst: Vrijdag om 20u basis in Tip-Top zomeruniform\, reeds gegeten \nMeebrengen: Weekendgerief\, hangmat (als je die hebt)\, inschrijvingen via Keeo \nEinde: zondag 17u basis
URL:https://langewapper.be/event/lillo-lexy-flexy-weekend/
CATEGORIES:Juniors,Seniors
END:VEVENT
BEGIN:VEVENT
DTSTART;VALUE=DATE:20260621
DTEND;VALUE=DATE:20260622
DTSTAMP:20260423T102856
CREATED:20260421T110816Z
LAST-MODIFIED:20260421T110816Z
UID:8718-1782000000-1782086399@langewapper.be
SUMMARY:Geen bijeenkomst
DESCRIPTION:Leiding heeft examens
URL:https://langewapper.be/event/geen-bijeenkomst-10/
CATEGORIES:Welpen
END:VEVENT
BEGIN:VEVENT
DTSTART;VALUE=DATE:20260621
DTEND;VALUE=DATE:20260622
DTSTAMP:20260423T102856
CREATED:20260421T114023Z
LAST-MODIFIED:20260421T114023Z
UID:8745-1782000000-1782086399@langewapper.be
SUMMARY:Geen bijeenkomst
DESCRIPTION:Leiding heeft examens
URL:https://langewapper.be/event/geen-bijeenkomst-12/
CATEGORIES:Aspiranten,Zeehonden
END:VEVENT
BEGIN:VEVENT
DTSTART;TZID=UTC:20260621T094500
DTEND;TZID=UTC:20260621T170000
DTSTAMP:20260423T102856
CREATED:20260421T112800Z
LAST-MODIFIED:20260421T112800Z
UID:8733-1782035100-1782061200@langewapper.be
SUMMARY:Zeil je voor het driest?!
DESCRIPTION:Bijeenkomst: 9u45 basis in Tip-Top zomeruniform \nMeebrengen: Lunch\, 4-uurtje en zeilkledij \nEinde: 17u basis
URL:https://langewapper.be/event/zeil-je-voor-het-driest/
CATEGORIES:Wolven
END:VEVENT
BEGIN:VEVENT
DTSTART;TZID=UTC:20260621T173000
DTEND;TZID=UTC:20260621T193000
DTSTAMP:20260423T102856
CREATED:20260421T174137Z
LAST-MODIFIED:20260421T174137Z
UID:8793-1782063000-1782070200@langewapper.be
SUMMARY:Wapperse kost
DESCRIPTION:zie HIER
URL:https://langewapper.be/event/wapperse-kost-9/
CATEGORIES:Wapperse Kost
END:VEVENT
BEGIN:VEVENT
DTSTART;VALUE=DATE:20260627
DTEND;VALUE=DATE:20260630
DTSTAMP:20260423T102856
CREATED:20260421T192100Z
LAST-MODIFIED:20260421T192336Z
UID:8813-1782518400-1782777599@langewapper.be
SUMMARY:Live is Live
DESCRIPTION:Live is Live:\nInschrijvingen en info volgen nog via mail!\n#Kroatië
URL:https://langewapper.be/event/live-is-live/
CATEGORIES:Seniors
END:VEVENT
BEGIN:VEVENT
DTSTART;TZID=UTC:20260628T094500
DTEND;TZID=UTC:20260628T170000
DTSTAMP:20260423T102856
CREATED:20260421T111050Z
LAST-MODIFIED:20260421T111050Z
UID:8720-1782639900-1782666000@langewapper.be
SUMMARY:Spitter spetter spater\, spelen met water?!
DESCRIPTION:Bijeenkomst: 9u45 basis in Tip-Top zomeruniform \nMeebrengen: Lunch\, 4-uurtje en zwemkledij\, zonnecrème en eventueel een pet!!! \nEinde: 17u basis \nAansluitend: BBQ – inschrijven via Keeo
URL:https://langewapper.be/event/spitter-spetter-spater-spelen-met-water/
CATEGORIES:Welpen
END:VEVENT
BEGIN:VEVENT
DTSTART;TZID=UTC:20260628T094500
DTEND;TZID=UTC:20260628T170000
DTSTAMP:20260423T102856
CREATED:20260421T113009Z
LAST-MODIFIED:20260421T113009Z
UID:8735-1782639900-1782666000@langewapper.be
SUMMARY:Kamp in zicht
DESCRIPTION:Bijeenkomst: 9u45 basis in Tip-Top zomeruniform \nMeebrengen: Lunch\, 4-uurtje en speelkledij \nEinde: 17u basis \nAansluitend: BBQ – inschrijven via Keeo
URL:https://langewapper.be/event/kamp-in-zicht/
CATEGORIES:Wolven
END:VEVENT
BEGIN:VEVENT
DTSTART;TZID=UTC:20260628T094500
DTEND;TZID=UTC:20260628T170000
DTSTAMP:20260423T102856
CREATED:20260421T114441Z
LAST-MODIFIED:20260421T114441Z
UID:8747-1782639900-1782666000@langewapper.be
SUMMARY:Zonne\, zeilen en repeat
DESCRIPTION:Bijeenkomst: 9u45 basis in Tip-Top zomeruniform \nMeebrengen: Lunch\, 4-uurtje\, zwemkledij en zeilkleding \nEinde: 17u basis \nAansluitend: BBQ – inschrijven via Keeo
URL:https://langewapper.be/event/zonne-zeilen-en-repeat/
CATEGORIES:Aspiranten
END:VEVENT
BEGIN:VEVENT
DTSTART;TZID=UTC:20260628T094500
DTEND;TZID=UTC:20260628T170000
DTSTAMP:20260423T102856
CREATED:20260421T121502Z
LAST-MODIFIED:20260421T121502Z
UID:8761-1782639900-1782666000@langewapper.be
SUMMARY:Nostalgia #2016
DESCRIPTION:Bijeenkomst: 9u45 basis in Tip-Top zomeruniform \nMeebrengen: Lunch\, 4-uurtje en speelkledij\, VERKLEEDKLEREN 2016 \nEinde: 17u basis \nAansluitend: BBQ – inschrijven via Keeo
URL:https://langewapper.be/event/nostalgia-2016/
CATEGORIES:Juniors
END:VEVENT
BEGIN:VEVENT
DTSTART;TZID=UTC:20260628T094500
DTEND;TZID=UTC:20260628T170000
DTSTAMP:20260423T102856
CREATED:20260421T124328Z
LAST-MODIFIED:20260421T124328Z
UID:8777-1782639900-1782666000@langewapper.be
SUMMARY:FamilieBBQ!
DESCRIPTION:Bijeenkomst: 9u45 basis in Tip-Top zomeruniform \nMeebrengen: Lunch\, 4-uurtje en speelkledij \nEinde: 17u basis \nAansluitend: BBQ – inschrijven via Keeo
URL:https://langewapper.be/event/familiebbq/
CATEGORIES:Seniors
END:VEVENT
BEGIN:VEVENT
DTSTART;TZID=UTC:20260628T130000
DTEND;TZID=UTC:20260628T170000
DTSTAMP:20260423T102856
CREATED:20260421T095914Z
LAST-MODIFIED:20260421T095914Z
UID:8706-1782651600-1782666000@langewapper.be
SUMMARY:Splitter\, Spletter\, Splater... Spelen met water?!
DESCRIPTION:Bijeenkomst: 13u basis in Tip-Top zomeuniform \nMeebrengen: 4-uurtje\, zwemkledij\, handdoek en speelkledij \nEinde: 17u basis \nAansluitend: BBQ – inschrijven via Keeo
URL:https://langewapper.be/event/splitter-spletter-splater-spelen-met-water/
CATEGORIES:Zeehonden
END:VEVENT
BEGIN:VEVENT
DTSTART;TZID=UTC:20260628T170000
DTEND;TZID=UTC:20260628T200000
DTSTAMP:20260423T102856
CREATED:20251215T211338Z
LAST-MODIFIED:20260421T184321Z
UID:8045-1782666000-1782676800@langewapper.be
SUMMARY:Seizoensafsluiter: BBQ!
DESCRIPTION:De jaarlijkse Wapperse FamilieBBQ! \nInschrijven: HIER
URL:https://langewapper.be/event/bbq/
LOCATION:Basis\, Beatrijslijn 41\, Antwerpen\, 2050\, Belgium
CATEGORIES:Aspiranten,de Wapperse Familie,Juniors,Seniors,Slepers,Welpen,Wolven,Zeehonden
END:VEVENT
END:VCALENDAR