BEGIN:VCALENDAR
VERSION:2.0
PRODID:-//FOS Lange Wapper - ECPv6.15.20//NONSGML v1.0//EN
CALSCALE:GREGORIAN
METHOD:PUBLISH
X-WR-CALNAME:FOS Lange Wapper
X-ORIGINAL-URL:https://langewapper.be
X-WR-CALDESC:Evenementen voor FOS Lange Wapper
REFRESH-INTERVAL;VALUE=DURATION:PT1H
X-Robots-Tag:noindex
X-PUBLISHED-TTL:PT1H
BEGIN:VTIMEZONE
TZID:UTC
BEGIN:STANDARD
TZOFFSETFROM:+0000
TZOFFSETTO:+0000
TZNAME:UTC
DTSTART:20240101T000000
END:STANDARD
END:VTIMEZONE
BEGIN:VEVENT
DTSTART;TZID=UTC:20251005T173000
DTEND;TZID=UTC:20251005T183000
DTSTAMP:20260420T024801
CREATED:20250914T194350Z
LAST-MODIFIED:20250915T170825Z
UID:4447-1759685400-1759689000@langewapper.be
SUMMARY:Wapperse Kost: Vincent Van Roy
DESCRIPTION:Japanse Satés Yakkitori\, stukjes vlees op stokjes met rijst en groenten. \nVeggie: Osaka balletjes op stokjes \nUw kok: Vincent Van Roy
URL:https://langewapper.be/event/japanse-sates-yakkitori/
LOCATION:Basis\, Beatrijslijn 41\, Antwerpen\, 2050\, Belgium
CATEGORIES:Wapperse Kost
END:VEVENT
BEGIN:VEVENT
DTSTART;TZID=UTC:20251005T130000
DTEND;TZID=UTC:20251005T170000
DTSTAMP:20260420T024801
CREATED:20250913T133231Z
LAST-MODIFIED:20250913T133231Z
UID:4281-1759669200-1759683600@langewapper.be
SUMMARY:Wie zijn de zeehonden?
DESCRIPTION:Bijeenkomst: 13u op de basis in Tip-Top zomeruniform \nMeebrengen: vieruurtje en speelkledij \nEinde: 17u basis
URL:https://langewapper.be/event/wie-zijn-de-zeehonden/
LOCATION:Basis\, Beatrijslijn 41\, Antwerpen\, 2050\, Belgium
CATEGORIES:Zeehonden
END:VEVENT
BEGIN:VEVENT
DTSTART;TZID=UTC:20251005T094500
DTEND;TZID=UTC:20251005T170000
DTSTAMP:20260420T024801
CREATED:20250914T151513Z
LAST-MODIFIED:20250914T151513Z
UID:4419-1759657500-1759683600@langewapper.be
SUMMARY:Pimp my lokaal!!
DESCRIPTION:Bijeenkomst: 09u45 in Tip-Top zomeruniform \nMeebrengen: werkkledij\, iets om mee te pimpen \nEinde: 17u
URL:https://langewapper.be/event/pimp-my-lokaal/
LOCATION:Basis\, Beatrijslijn 41\, Antwerpen\, 2050\, Belgium
CATEGORIES:Seniors
END:VEVENT
BEGIN:VEVENT
DTSTART;TZID=UTC:20251005T094500
DTEND;TZID=UTC:20251005T170000
DTSTAMP:20260420T024801
CREATED:20250914T150109Z
LAST-MODIFIED:20250918T194521Z
UID:4410-1759657500-1759683600@langewapper.be
SUMMARY:Klidder\, kledder\, kladder
DESCRIPTION:Bijeenkomst: 9u45 basis in Tip-Top zomeruniform \nMeebrengen: lunch\, vieruurtje\, kleren die vuil mogen worden en een hamer \nEinde: 17u basis
URL:https://langewapper.be/event/klidder-kledder-kladder/
LOCATION:Basis\, Beatrijslijn 41\, Antwerpen\, 2050\, Belgium
CATEGORIES:Juniors
END:VEVENT
BEGIN:VEVENT
DTSTART;TZID=UTC:20251005T094500
DTEND;TZID=UTC:20251005T170000
DTSTAMP:20260420T024801
CREATED:20250914T144933Z
LAST-MODIFIED:20250914T144933Z
UID:4396-1759657500-1759683600@langewapper.be
SUMMARY:Wie is het!
DESCRIPTION:Bijeenkomst: 9u45 basis in Tip-Top zomeruniform \nMeebrengen: Lunch\, vieruurtje en speelkledij \nEinde: 17u basis
URL:https://langewapper.be/event/wie-is-het/
LOCATION:Basis\, Beatrijslijn 41\, Antwerpen\, 2050\, Belgium
CATEGORIES:Aspiranten
END:VEVENT
BEGIN:VEVENT
DTSTART;TZID=UTC:20251005T094500
DTEND;TZID=UTC:20251005T170000
DTSTAMP:20260420T024801
CREATED:20250914T144503Z
LAST-MODIFIED:20250918T192449Z
UID:4389-1759657500-1759683600@langewapper.be
SUMMARY:Wie o wie is de (nieuwe?) leiding
DESCRIPTION:Bijeenkomst: basis in Tip-Top zomeruniform \nMeebrengen: Lunch\, vieruurtje en speelkledij\, een leuk weetje over jezelf \nEinde: 17u basis
URL:https://langewapper.be/event/wie-o-wie-is-de-nieuweleiding/
LOCATION:Basis\, Beatrijslijn 41\, Antwerpen\, 2050\, Belgium
CATEGORIES:Wolven
END:VEVENT
BEGIN:VEVENT
DTSTART;TZID=UTC:20251005T094500
DTEND;TZID=UTC:20251005T170000
DTSTAMP:20260420T024801
CREATED:20250913T135108Z
LAST-MODIFIED:20250913T135108Z
UID:4299-1759657500-1759683600@langewapper.be
SUMMARY:Wie is Mowgli?
DESCRIPTION:Bijeenkomst: 9u45 basis in Tip-Top zomeruniform \nMeebrengen: speelkledij\, lunchpakket en vieruurtje \nEinde: 17u basis
URL:https://langewapper.be/event/wie-is-mowgli/
LOCATION:Basis\, Beatrijslijn 41\, Antwerpen\, 2050\, Belgium
CATEGORIES:Welpen
END:VEVENT
BEGIN:VEVENT
DTSTART;VALUE=DATE:20250926
DTEND;VALUE=DATE:20250929
DTSTAMP:20260420T024801
CREATED:20250914T145344Z
LAST-MODIFIED:20250914T145344Z
UID:4402-1758844800-1759103999@langewapper.be
SUMMARY:GEEN BIJEENKOMST
DESCRIPTION:Leiding is op Saamdagen (FOS)
URL:https://langewapper.be/event/geen-bijeenkomst/
CATEGORIES:Aspiranten,Juniors,Seniors,Welpen,Wolven,Zeehonden
END:VEVENT
BEGIN:VEVENT
DTSTART;TZID=UTC:20250921T124500
DTEND;TZID=UTC:20250921T170000
DTSTAMP:20260420T024801
CREATED:20250918T202909Z
LAST-MODIFIED:20250918T202935Z
UID:5143-1758458700-1758474000@langewapper.be
SUMMARY:Overgang
DESCRIPTION:Bijeenkomst: 12u45 basis in Tip-Top zomeruniform \nMeebrengen: speelkledij\, propere kleren\, douchegerief en handdoek\, lunchpakket en vieruurtje \nEinde: 17u basis \nAansluitend infomoment voor ouders en vrijwilligersmarkt!
URL:https://langewapper.be/event/overgang-6/
CATEGORIES:Welpen
END:VEVENT
BEGIN:VEVENT
DTSTART;TZID=UTC:20250921T124500
DTEND;TZID=UTC:20250921T170000
DTSTAMP:20260420T024801
CREATED:20250913T133019Z
LAST-MODIFIED:20250918T202757Z
UID:4279-1758458700-1758474000@langewapper.be
SUMMARY:Overgang
DESCRIPTION:Bijeenkomst: 12u45 basis in Tip-Top zomeruniform \nMeebrengen: speelkledij\, propere kleren\, douchegerief en handdoek\, vieruurtje \nEinde: 17u basis \nAansluitend infomoment voor ouders en vrijwilligersmarkt!
URL:https://langewapper.be/event/overgang/
LOCATION:Basis\, Beatrijslijn 41\, Antwerpen\, 2050\, Belgium
CATEGORIES:Zeehonden
END:VEVENT
BEGIN:VEVENT
DTSTART;TZID=UTC:20250921T094500
DTEND;TZID=UTC:20250921T170000
DTSTAMP:20260420T024801
CREATED:20250917T202707Z
LAST-MODIFIED:20250917T202930Z
UID:4763-1758447900-1758474000@langewapper.be
SUMMARY:Overgang
DESCRIPTION:Bijeenkomst: basis in Tip-Top zomeruniform \n2de jaars om 9u45 \n1ste jaars om 12u45 \nMeebrengen: Lunchpakket\, vieruurtje\, kledij die heel vuil mag worden\, handdoek en zeep \nEinde: 17u00 basis \nAansluitend infomoment voor ouders en vrijwilligersmarkt !
URL:https://langewapper.be/event/overgang-5/
CATEGORIES:Seniors
END:VEVENT
BEGIN:VEVENT
DTSTART;TZID=UTC:20250921T094500
DTEND;TZID=UTC:20250921T170000
DTSTAMP:20260420T024801
CREATED:20250914T145848Z
LAST-MODIFIED:20250918T194230Z
UID:4408-1758447900-1758474000@langewapper.be
SUMMARY:Overgang
DESCRIPTION:Bijeenkomst: basis in Tip-Top zomeruniform\n– Geboren in 2010 om 9u45\n– Geboren in 2009 om 13u \nMeebrengen: lunchpakket\, kleren die heel vuil mogen worden\, handdoek\, zeep\, vieruurtje \nEinde: 17u basis \nAansluitend infomoment voor ouders en vrijwilligersmarkt!
URL:https://langewapper.be/event/overgang-4/
CATEGORIES:Juniors
END:VEVENT
BEGIN:VEVENT
DTSTART;TZID=UTC:20250921T094500
DTEND;TZID=UTC:20250921T170000
DTSTAMP:20260420T024801
CREATED:20250914T143920Z
LAST-MODIFIED:20250919T192821Z
UID:4385-1758447900-1758474000@langewapper.be
SUMMARY:Overgang
DESCRIPTION:Bijeenkomst: 9u45 basis in Tip-Top zomeruniform \nMeebrengen: kleren die vuil mogen worden\, extra droge kleren\, shampoo en handdoek\, vieruurtje \nEinde: 17u basis \nAansluitend infomoment voor ouders en vrijwilligersmarkt!
URL:https://langewapper.be/event/overgang-3/
LOCATION:Basis\, Beatrijslijn 41\, Antwerpen\, 2050\, Belgium
CATEGORIES:Wolven
END:VEVENT
BEGIN:VEVENT
DTSTART;TZID=UTC:20250921T080000
DTEND;TZID=UTC:20250921T170000
DTSTAMP:20260420T024801
CREATED:20250914T143732Z
LAST-MODIFIED:20250918T193500Z
UID:4383-1758441600-1758474000@langewapper.be
SUMMARY:Overgang
DESCRIPTION:Bijeenkomst: 13u basis in Tip-Top zomeruniform \nMeebrengen: kleren die vuil mogen worden\, handdoek\, zeep\, zwembroek\, vieruurtje \nEinde: 17u basis \nAansluitend infomoment voor ouders en vrijwilligersmarkt!
URL:https://langewapper.be/event/overgang-2/
CATEGORIES:Aspiranten
END:VEVENT
BEGIN:VEVENT
DTSTART;VALUE=DATE:20250921
DTEND;VALUE=DATE:20250922
DTSTAMP:20260420T024801
CREATED:20250917T204657Z
LAST-MODIFIED:20250917T205116Z
UID:4812-1758412800-1758499199@langewapper.be
SUMMARY:Overgang minigolf
DESCRIPTION:
URL:https://langewapper.be/event/overgang-minigolf/
CATEGORIES:Slepers
END:VEVENT
BEGIN:VEVENT
DTSTART;VALUE=DATE:20250530
DTEND;VALUE=DATE:20250602
DTSTAMP:20260420T024801
CREATED:20250509T212006Z
LAST-MODIFIED:20250509T212015Z
UID:2613-1748563200-1748822399@langewapper.be
SUMMARY:Zeil Aan Zee
DESCRIPTION:“Avontuur\, plezier en scouting aan zee – ontdek het tijdens de Havenfeesten in Blankenberge!” \nKlik hier om je in te schrijven voor woensdag 15 mei 2025.
URL:https://langewapper.be/event/zeil-aan-zee/
END:VEVENT
BEGIN:VEVENT
DTSTART;TZID=UTC:20250518T094500
DTEND;TZID=UTC:20250518T170000
DTSTAMP:20260420T024801
CREATED:20250506T212036Z
LAST-MODIFIED:20250509T204358Z
UID:1791-1747561500-1747587600@langewapper.be
SUMMARY:Twee stenen?? Nene\, Einstein!!
DESCRIPTION:Bijeenkomst : 9u45 Basis in Tip-Top zomeruniform \nMeebrengen : 4-uurtje\, lunch en speelkledij \nEinde : 17u Basis
URL:https://langewapper.be/event/twee-stenen-nene-einstein/
LOCATION:Basis\, Beatrijslijn 41\, Antwerpen\, 2050\, Belgium
CATEGORIES:Welpen
END:VEVENT
BEGIN:VEVENT
DTSTART;TZID=UTC:20250511T094500
DTEND;TZID=UTC:20250511T170000
DTSTAMP:20260420T024801
CREATED:20250506T210535Z
LAST-MODIFIED:20250509T204340Z
UID:1786-1746956700-1746982800@langewapper.be
SUMMARY:Opening Vaarseizoen
DESCRIPTION:Bijeenkomst: 9u45 Basis in Tip-Top zomeruniform \nMeebrengen: 4-uurtje\, lunch €5 en speelkledij \nEinde: 17u Basis \nVier samen met de hele eenheid het Opening Vaarseizoen van 10-17u met aansluitend Kippenfestijn.
URL:https://langewapper.be/event/opening-vaarseizoen/
LOCATION:Basis\, Beatrijslijn 41\, Antwerpen\, 2050\, Belgium
CATEGORIES:Aspiranten,Juniors,Seniors,Welpen,Wolven,Zeehonden
END:VEVENT
BEGIN:VEVENT
DTSTART;TZID=UTC:20250504T103000
DTEND;TZID=UTC:20250504T163000
DTSTAMP:20260420T024801
CREATED:20250506T204709Z
LAST-MODIFIED:20250509T204427Z
UID:1779-1746354600-1746376200@langewapper.be
SUMMARY:Een beestige zondag
DESCRIPTION:Bijeenkomst : 10u30 ZOO Antwerpen \nMeebrengen : Lunch\, 4-uurtje\, ZOO-abonnement of €15 en kom verkleed als je favoriet dier! \nEinde: 16u30 ZOO Antwerpen
URL:https://langewapper.be/event/een-beestige-zondag/
LOCATION:ZOO Antwerpen\, Koningin Astridplein 20-26\, Antwerpen\, 2018
CATEGORIES:Zeehonden
END:VEVENT
END:VCALENDAR