BEGIN:VCALENDAR
VERSION:2.0
PRODID:-//FOS Lange Wapper - ECPv6.15.19//NONSGML v1.0//EN
CALSCALE:GREGORIAN
METHOD:PUBLISH
X-ORIGINAL-URL:https://langewapper.be
X-WR-CALDESC:Evenementen voor FOS Lange Wapper
REFRESH-INTERVAL;VALUE=DURATION:PT1H
X-Robots-Tag:noindex
X-PUBLISHED-TTL:PT1H
BEGIN:VTIMEZONE
TZID:UTC
BEGIN:STANDARD
TZOFFSETFROM:+0000
TZOFFSETTO:+0000
TZNAME:UTC
DTSTART:20240101T000000
END:STANDARD
END:VTIMEZONE
BEGIN:VEVENT
DTSTART;TZID=UTC:20260125T160000
DTEND;TZID=UTC:20260125T190000
DTSTAMP:20260419T162652
CREATED:20251215T205203Z
LAST-MODIFIED:20251230T213001Z
UID:8015-1769356800-1769367600@langewapper.be
SUMMARY:Nieuwjaarsreceptie
DESCRIPTION:Kom op het nieuwe jaar klinken in De Meermin vanaf 16u!
URL:https://langewapper.be/event/nieuwjaarsreceptie/
LOCATION:Basis\, Beatrijslijn 41\, Antwerpen\, 2050\, Belgium
CATEGORIES:Aspiranten,Juniors,Seniors,Slepers,t.v.v. Scoutswerking,Welpen,Wolven,Zeehonden
END:VEVENT
BEGIN:VEVENT
DTSTART;TZID=UTC:20260124T180000
DTEND;TZID=UTC:20260124T200000
DTSTAMP:20260419T162652
CREATED:20251230T161333Z
LAST-MODIFIED:20251230T204432Z
UID:8097-1769277600-1769284800@langewapper.be
SUMMARY:'Ik moet dit kerstfeest stoppen!'
DESCRIPTION:Bijeenkomst: zaterdag 18u basis in tiptop winteruniform. \nMeebrengen: lievelingsknuffel\, dekentje\, kussen. \nEinde: zaterdag 20u basis
URL:https://langewapper.be/event/ik-moet-dit-kerstfeest-stoppen/
LOCATION:Basis\, Beatrijslijn 41\, Antwerpen\, 2050\, Belgium
CATEGORIES:Zeehonden
END:VEVENT
BEGIN:VEVENT
DTSTART;VALUE=DATE:20260118
DTEND;VALUE=DATE:20260119
DTSTAMP:20260419T162652
CREATED:20251230T161049Z
LAST-MODIFIED:20251230T161049Z
UID:8095-1768694400-1768780799@langewapper.be
SUMMARY:GEEN bijeenkomst - leiding heeft examens!
DESCRIPTION:
URL:https://langewapper.be/event/geen-bijeenkomst-leiding-heeft-examens/
CATEGORIES:Zeehonden
END:VEVENT
BEGIN:VEVENT
DTSTART;VALUE=DATE:20260111
DTEND;VALUE=DATE:20260112
DTSTAMP:20260419T162652
CREATED:20250101T234134Z
LAST-MODIFIED:20251231T082643Z
UID:8194-1768089600-1768175999@langewapper.be
SUMMARY:Wafelverkoop Seniors
DESCRIPTION:HIER te bestellen t.e.m. 11/1/2026 \nAf te halen: 25/1/26
URL:https://langewapper.be/event/wafelverkoop-seniors/
CATEGORIES:Aspiranten,Juniors,Seniors,Slepers,t.v.v. Scoutswerking,Welpen,Wolven,Zeehonden
END:VEVENT
BEGIN:VEVENT
DTSTART;TZID=UTC:20260109T190000
DTEND;TZID=UTC:20260109T203000
DTSTAMP:20260419T162652
CREATED:20251230T160818Z
LAST-MODIFIED:20251230T204453Z
UID:8093-1767985200-1767990600@langewapper.be
SUMMARY:Sprookjes in het donker
DESCRIPTION:Bijeenkomst: vrijdag 19u basis in tiptop winteruniform. \nMeebrengen: snoepje/koekje om te delen \nEinde: vrijdag 20u30 basis
URL:https://langewapper.be/event/sprookjes-in-het-donker/
LOCATION:Basis\, Beatrijslijn 41\, Antwerpen\, 2050\, Belgium
CATEGORIES:Zeehonden
END:VEVENT
BEGIN:VEVENT
DTSTART;VALUE=DATE:20260104
DTEND;VALUE=DATE:20260105
DTSTAMP:20260419T162652
CREATED:20251028T151949Z
LAST-MODIFIED:20251028T152650Z
UID:7653-1767484800-1767571199@langewapper.be
SUMMARY:Geen bijeenkomst
DESCRIPTION:kerstvakantie
URL:https://langewapper.be/event/geen-bijeenkomst-4/
CATEGORIES:Aspiranten,Juniors,Seniors,Welpen,Wolven,Zeehonden
END:VEVENT
BEGIN:VEVENT
DTSTART;VALUE=DATE:20251228
DTEND;VALUE=DATE:20251229
DTSTAMP:20260419T162652
CREATED:20251028T104246Z
LAST-MODIFIED:20251028T155257Z
UID:7568-1766880000-1766966399@langewapper.be
SUMMARY:Geen bijeenkomst
DESCRIPTION:Kerstvakantie
URL:https://langewapper.be/event/geen-bijeenkomst-2/
CATEGORIES:Aspiranten,Juniors,Seniors,Welpen,Wolven,Zeehonden
END:VEVENT
BEGIN:VEVENT
DTSTART;TZID=UTC:20251219T190000
DTEND;TZID=UTC:20251221T160000
DTSTAMP:20260419T162652
CREATED:20251028T104855Z
LAST-MODIFIED:20251103T214026Z
UID:7572-1766170800-1766332800@langewapper.be
SUMMARY:KERSTKAMP
DESCRIPTION:Zin om een weekendje je geheime identiteit niet te moeten verschuilen?\nKom mee op kerstkamp en wees je SUPER zelve! \nAlle superhelpers van Lange Wapper gaan dit weekend helemaal uit hun dak :)) \nBijeenkomst: vrijdag 19 december basis om 19h – reeds gegeten\, in TipTop Winteruniform \nEinde: zondag 21 december basis om 16h \nInfo/paklijst Kerstkamp 2025 \nInschrijvingen via KEEO \nDenk óók aan de medische fiche van de Lange Wapper!
URL:https://langewapper.be/event/kerstkamp/
CATEGORIES:Aspiranten,Juniors,Seniors,Welpen,Wolven,Zeehonden
END:VEVENT
BEGIN:VEVENT
DTSTART;TZID=UTC:20251214T150000
DTEND;TZID=UTC:20251214T190000
DTSTAMP:20260419T162652
CREATED:20251029T145153Z
LAST-MODIFIED:20251103T054105Z
UID:7718-1765724400-1765738800@langewapper.be
SUMMARY:Winterfeest 2025
DESCRIPTION:Voor (groot)ouders\, broer/zus & sympathisanten: \nWinterfeest 2025 van de zeescouts Lange Wapper. Vier met ons de 112de editie van dit feest. \n 
URL:https://langewapper.be/event/winterfeest-2025/
LOCATION:Basis\, Beatrijslijn 41\, Antwerpen\, 2050\, Belgium
CATEGORIES:Aspiranten,Juniors,Seniors,Slepers,t.v.v. Scoutswerking,Welpen,Wolven,Zeehonden
END:VEVENT
BEGIN:VEVENT
DTSTART;TZID=UTC:20251214T094500
DTEND;TZID=UTC:20251214T170000
DTSTAMP:20260419T162652
CREATED:20251028T135624Z
LAST-MODIFIED:20251028T135721Z
UID:7617-1765705500-1765731600@langewapper.be
SUMMARY:Winterfeest
DESCRIPTION:Bijeenkomst: 13u basis in Tip-top winteruniform \nMeebrengen: 4-uurtje en speelkledij en €5\,00 \nEinde: 17u basis \nVanaf 15u winterfeest voor iedereen!
URL:https://langewapper.be/event/winterfeest-2/
LOCATION:Basis\, Beatrijslijn 41\, Antwerpen\, 2050\, Belgium
CATEGORIES:Zeehonden
END:VEVENT
BEGIN:VEVENT
DTSTART;TZID=UTC:20251207T080000
DTEND;TZID=UTC:20251207T170000
DTSTAMP:20260419T162652
CREATED:20251028T140322Z
LAST-MODIFIED:20251028T153041Z
UID:7631-1765094400-1765126800@langewapper.be
SUMMARY:Oh Nee... De stoomboot is vermist!
DESCRIPTION:Bijeenkomst: 13u basis in Tip-top winteruniform \nMeebrengen: 4-uurtje en speelkledij \nEinde: 17u basis
URL:https://langewapper.be/event/oh-nee-de-stoomboot-is-vermist/
LOCATION:Basis\, Beatrijslijn 41\, Antwerpen\, 2050\, Belgium
CATEGORIES:Zeehonden
END:VEVENT
BEGIN:VEVENT
DTSTART;VALUE=DATE:20251130
DTEND;VALUE=DATE:20251201
DTSTAMP:20260419T162652
CREATED:20251028T104353Z
LAST-MODIFIED:20251028T140435Z
UID:7570-1764460800-1764547199@langewapper.be
SUMMARY:Geen bijeenkomst
DESCRIPTION:Leiding is op leidingsweekend
URL:https://langewapper.be/event/geen-bijeenkomst-3/
CATEGORIES:Aspiranten,Juniors,Seniors,Welpen,Wolven,Zeehonden
END:VEVENT
BEGIN:VEVENT
DTSTART;TZID=UTC:20251123T130000
DTEND;TZID=UTC:20251123T170000
DTSTAMP:20260419T162652
CREATED:20251028T111121Z
LAST-MODIFIED:20251120T063200Z
UID:7583-1763902800-1763917200@langewapper.be
SUMMARY:GARGAMEL WAT DOE JE NU??
DESCRIPTION:Bijeenkomst: 13u. basis in Tip-Top winteruniform \nMeebrengen: vieruurtje\, smurfen outfit en speelkledij \nEinde: 17u. basis
URL:https://langewapper.be/event/gargamel-wat-doe-je-nu/
CATEGORIES:Zeehonden
END:VEVENT
BEGIN:VEVENT
DTSTART;TZID=UTC:20251116T080000
DTEND;TZID=UTC:20251116T170000
DTSTAMP:20260419T162652
CREATED:20251028T110819Z
LAST-MODIFIED:20251028T110819Z
UID:7579-1763280000-1763312400@langewapper.be
SUMMARY:WIE ZOEKT DIE VINDT...
DESCRIPTION:Bijeenkomst: 13u. ingang Sint-Anna bos in Tip-Top winteruniform \nMeebrengen: vieruurtje en speelkledij \nEinde: 16u.30 ingang Sint-Anna bos \nStoofvleesfeest om 13u. – 17u. en 18u.30
URL:https://langewapper.be/event/wie-zoekt-die-vindt/
LOCATION:Sint-Anna bos\, Esmoreitlaan\, 2050 Antwerpen\, Belgium
CATEGORIES:Zeehonden
END:VEVENT
BEGIN:VEVENT
DTSTART;TZID=UTC:20251109T080000
DTEND;TZID=UTC:20251109T170000
DTSTAMP:20260419T162652
CREATED:20251028T105849Z
LAST-MODIFIED:20251028T105849Z
UID:7576-1762675200-1762707600@langewapper.be
SUMMARY:ALLE BAKKERS KLAAR\, BAKKEN MAAR!
DESCRIPTION:Bijeenkomst: 13u. bais in Tip-Top winternuiform \nMeebrengen: vieruurtje\, speelkledij en bakkers kledij \nEinde: 17u. basis
URL:https://langewapper.be/event/alle-bakkers-klaar-bakken-maar/
CATEGORIES:Zeehonden
END:VEVENT
BEGIN:VEVENT
DTSTART;TZID=UTC:20251102T130000
DTEND;TZID=UTC:20251102T170000
DTSTAMP:20260419T162652
CREATED:20251028T105455Z
LAST-MODIFIED:20251028T120609Z
UID:7574-1762088400-1762102800@langewapper.be
SUMMARY:UN POCO LOCO
DESCRIPTION:Bijeenkomst: 13u. basis in Tip-Top winteruniform \nMeebrengen: vieruurtje en speelkledij \nEinde: 17u. basis
URL:https://langewapper.be/event/un-poco-loco/
LOCATION:Basis\, Beatrijslijn 41\, Antwerpen\, 2050\, Belgium
CATEGORIES:Zeehonden
END:VEVENT
BEGIN:VEVENT
DTSTART;TZID=UTC:20251025T100000
DTEND;TZID=UTC:20251026T170000
DTSTAMP:20260419T162652
CREATED:20250918T134943Z
LAST-MODIFIED:20250918T134943Z
UID:5045-1761386400-1761498000@langewapper.be
SUMMARY:Het Grote Griezelfeest
DESCRIPTION:Bijeenkomst: Zaterdag 25/10/2025 om 10u basis. Meebrengen: zie weekendbrief. Einde: Zondag om 17u basis
URL:https://langewapper.be/event/het-grote-griezelfeest-2/
CATEGORIES:Zeehonden
END:VEVENT
BEGIN:VEVENT
DTSTART;TZID=UTC:20251019T103000
DTEND;TZID=UTC:20251019T161500
DTSTAMP:20260419T162652
CREATED:20250913T134309Z
LAST-MODIFIED:20250913T134309Z
UID:4285-1760869800-1760890500@langewapper.be
SUMMARY:Spitter\, Spetter\, Spater ... Lekker in het WATER!!!
DESCRIPTION:Bijeenkomst: 10u30 Zwembad LAGO De Meerminnen in Tip-Top zomeruniform \nMeebrengen: zwemkledij\, handdoek\, lunchpakket\, vieruurtje\, 10 euro cash \nEinde: 16u15 Zwembad LAGO De Meerminnen
URL:https://langewapper.be/event/spitter-spetter-spater-lekker-in-het-water/
LOCATION:Zwembad LAGO De Meerminnen\, Pastoor Steenssensstraat 108a\, Beveren\, 9120\, Belgium
CATEGORIES:Zeehonden
END:VEVENT
BEGIN:VEVENT
DTSTART;TZID=UTC:20251012T130000
DTEND;TZID=UTC:20251012T170000
DTSTAMP:20260419T162652
CREATED:20250913T133321Z
LAST-MODIFIED:20250913T133347Z
UID:4283-1760274000-1760288400@langewapper.be
SUMMARY:Versierhelden gezocht!
DESCRIPTION:Bijeenkomst: 13u op de basis in Tip-Top zomeruniform \nMeebrengen: vieruurtje en speelkledij \nEinde: 17u basis
URL:https://langewapper.be/event/versierhelden-gezocht/
LOCATION:Basis\, Beatrijslijn 41\, Antwerpen\, 2050\, Belgium
CATEGORIES:Zeehonden
END:VEVENT
BEGIN:VEVENT
DTSTART;TZID=UTC:20251005T130000
DTEND;TZID=UTC:20251005T170000
DTSTAMP:20260419T162652
CREATED:20250913T133231Z
LAST-MODIFIED:20250913T133231Z
UID:4281-1759669200-1759683600@langewapper.be
SUMMARY:Wie zijn de zeehonden?
DESCRIPTION:Bijeenkomst: 13u op de basis in Tip-Top zomeruniform \nMeebrengen: vieruurtje en speelkledij \nEinde: 17u basis
URL:https://langewapper.be/event/wie-zijn-de-zeehonden/
LOCATION:Basis\, Beatrijslijn 41\, Antwerpen\, 2050\, Belgium
CATEGORIES:Zeehonden
END:VEVENT
BEGIN:VEVENT
DTSTART;VALUE=DATE:20250926
DTEND;VALUE=DATE:20250929
DTSTAMP:20260419T162652
CREATED:20250914T145344Z
LAST-MODIFIED:20250914T145344Z
UID:4402-1758844800-1759103999@langewapper.be
SUMMARY:GEEN BIJEENKOMST
DESCRIPTION:Leiding is op Saamdagen (FOS)
URL:https://langewapper.be/event/geen-bijeenkomst/
CATEGORIES:Aspiranten,Juniors,Seniors,Welpen,Wolven,Zeehonden
END:VEVENT
BEGIN:VEVENT
DTSTART;TZID=UTC:20250921T124500
DTEND;TZID=UTC:20250921T170000
DTSTAMP:20260419T162652
CREATED:20250913T133019Z
LAST-MODIFIED:20250918T202757Z
UID:4279-1758458700-1758474000@langewapper.be
SUMMARY:Overgang
DESCRIPTION:Bijeenkomst: 12u45 basis in Tip-Top zomeruniform \nMeebrengen: speelkledij\, propere kleren\, douchegerief en handdoek\, vieruurtje \nEinde: 17u basis \nAansluitend infomoment voor ouders en vrijwilligersmarkt!
URL:https://langewapper.be/event/overgang/
LOCATION:Basis\, Beatrijslijn 41\, Antwerpen\, 2050\, Belgium
CATEGORIES:Zeehonden
END:VEVENT
BEGIN:VEVENT
DTSTART;TZID=UTC:20250511T094500
DTEND;TZID=UTC:20250511T170000
DTSTAMP:20260419T162652
CREATED:20250506T210535Z
LAST-MODIFIED:20250509T204340Z
UID:1786-1746956700-1746982800@langewapper.be
SUMMARY:Opening Vaarseizoen
DESCRIPTION:Bijeenkomst: 9u45 Basis in Tip-Top zomeruniform \nMeebrengen: 4-uurtje\, lunch €5 en speelkledij \nEinde: 17u Basis \nVier samen met de hele eenheid het Opening Vaarseizoen van 10-17u met aansluitend Kippenfestijn.
URL:https://langewapper.be/event/opening-vaarseizoen/
LOCATION:Basis\, Beatrijslijn 41\, Antwerpen\, 2050\, Belgium
CATEGORIES:Aspiranten,Juniors,Seniors,Welpen,Wolven,Zeehonden
END:VEVENT
BEGIN:VEVENT
DTSTART;TZID=UTC:20250504T103000
DTEND;TZID=UTC:20250504T163000
DTSTAMP:20260419T162652
CREATED:20250506T204709Z
LAST-MODIFIED:20250509T204427Z
UID:1779-1746354600-1746376200@langewapper.be
SUMMARY:Een beestige zondag
DESCRIPTION:Bijeenkomst : 10u30 ZOO Antwerpen \nMeebrengen : Lunch\, 4-uurtje\, ZOO-abonnement of €15 en kom verkleed als je favoriet dier! \nEinde: 16u30 ZOO Antwerpen
URL:https://langewapper.be/event/een-beestige-zondag/
LOCATION:ZOO Antwerpen\, Koningin Astridplein 20-26\, Antwerpen\, 2018
CATEGORIES:Zeehonden
END:VEVENT
END:VCALENDAR