BEGIN:VCALENDAR
VERSION:2.0
PRODID:-//FOS Lange Wapper - ECPv6.15.19//NONSGML v1.0//EN
CALSCALE:GREGORIAN
METHOD:PUBLISH
X-WR-CALNAME:FOS Lange Wapper
X-ORIGINAL-URL:https://langewapper.be
X-WR-CALDESC:Evenementen voor FOS Lange Wapper
REFRESH-INTERVAL;VALUE=DURATION:PT1H
X-Robots-Tag:noindex
X-PUBLISHED-TTL:PT1H
BEGIN:VTIMEZONE
TZID:UTC
BEGIN:STANDARD
TZOFFSETFROM:+0000
TZOFFSETTO:+0000
TZNAME:UTC
DTSTART:20250101T000000
END:STANDARD
END:VTIMEZONE
BEGIN:VEVENT
DTSTART;TZID=UTC:20260329T130000
DTEND;TZID=UTC:20260329T170000
DTSTAMP:20260419T175046
CREATED:20260221T141809Z
LAST-MODIFIED:20260221T141809Z
UID:8483-1774789200-1774803600@langewapper.be
SUMMARY:Oh nee\, de paaseieren zijn zoek?!
DESCRIPTION:Bijeenkomst: 13u basis in Tip-Top winteruniform \nMeebrengen: 4-uurtje en speelkledij \nEinde: 17 uur basis \nAansluitend spaghettifestijn van de juniors\, inschrijven via Keeo
URL:https://langewapper.be/event/oh-nee-de-paaseieren-zijn-zoek/
CATEGORIES:Zeehonden
END:VEVENT
END:VCALENDAR