BEGIN:VCALENDAR
VERSION:2.0
PRODID:-//FOS Lange Wapper - ECPv6.15.19//NONSGML v1.0//EN
CALSCALE:GREGORIAN
METHOD:PUBLISH
X-WR-CALNAME:FOS Lange Wapper
X-ORIGINAL-URL:https://langewapper.be
X-WR-CALDESC:Evenementen voor FOS Lange Wapper
REFRESH-INTERVAL;VALUE=DURATION:PT1H
X-Robots-Tag:noindex
X-PUBLISHED-TTL:PT1H
BEGIN:VTIMEZONE
TZID:UTC
BEGIN:STANDARD
TZOFFSETFROM:+0000
TZOFFSETTO:+0000
TZNAME:UTC
DTSTART:20250101T000000
END:STANDARD
END:VTIMEZONE
BEGIN:VEVENT
DTSTART;TZID=UTC:20260315T130000
DTEND;TZID=UTC:20260315T170000
DTSTAMP:20260419T192945
CREATED:20260221T113736Z
LAST-MODIFIED:20260221T113736Z
UID:8474-1773579600-1773594000@langewapper.be
SUMMARY:Rarara wie zijn deze leiding....
DESCRIPTION:Bijeenkomst: 13u basis in Tip-Top winteruniform \nMeebrengen: 4-uurtje en speelkledij \nEinde: 17u basis
URL:https://langewapper.be/event/rarara-wie-zijn-deze-leiding/
CATEGORIES:Zeehonden
END:VEVENT
END:VCALENDAR