BEGIN:VCALENDAR
VERSION:2.0
PRODID:-//FOS Lange Wapper - ECPv6.15.20//NONSGML v1.0//EN
CALSCALE:GREGORIAN
METHOD:PUBLISH
X-ORIGINAL-URL:https://langewapper.be
X-WR-CALDESC:Evenementen voor FOS Lange Wapper
REFRESH-INTERVAL;VALUE=DURATION:PT1H
X-Robots-Tag:noindex
X-PUBLISHED-TTL:PT1H
BEGIN:VTIMEZONE
TZID:UTC
BEGIN:STANDARD
TZOFFSETFROM:+0000
TZOFFSETTO:+0000
TZNAME:UTC
DTSTART:19690101T000000
END:STANDARD
END:VTIMEZONE
BEGIN:VEVENT
DTSTART;TZID=UTC:20260423T084817
DTEND;TZID=UTC:20260510T170000
DTSTAMP:20260423T084817
CREATED:20260421T111629Z
LAST-MODIFIED:20260421T111629Z
UID:8722-0-1778432400@langewapper.be
SUMMARY:Pimp je lokaal!
DESCRIPTION:Bijeenkomst: 9u45 basis in Tip-Top zomeruniform \nMeebrengen: Lunch\, 4-uurtje\, speelkledij \nEinde: 17u basis
URL:https://langewapper.be/event/pimp-je-lokaal/
CATEGORIES:Wolven
END:VEVENT
END:VCALENDAR