BEGIN:VCALENDAR
VERSION:2.0
PRODID:-//FOS Lange Wapper - ECPv6.15.20//NONSGML v1.0//EN
CALSCALE:GREGORIAN
METHOD:PUBLISH
X-WR-CALNAME:FOS Lange Wapper
X-ORIGINAL-URL:https://langewapper.be
X-WR-CALDESC:Evenementen voor FOS Lange Wapper
REFRESH-INTERVAL;VALUE=DURATION:PT1H
X-Robots-Tag:noindex
X-PUBLISHED-TTL:PT1H
BEGIN:VTIMEZONE
TZID:UTC
BEGIN:STANDARD
TZOFFSETFROM:+0000
TZOFFSETTO:+0000
TZNAME:UTC
DTSTART:20250101T000000
END:STANDARD
END:VTIMEZONE
BEGIN:VEVENT
DTSTART;TZID=UTC:20260322T094500
DTEND;TZID=UTC:20260322T170000
DTSTAMP:20260420T000213
CREATED:20260221T144217Z
LAST-MODIFIED:20260221T144217Z
UID:8494-1774172700-1774198800@langewapper.be
SUMMARY:Piratendag ARRRH
DESCRIPTION:Bijeenkomst: 9u45 basis in Tip-Top winteruniform \nMeebrengen: Lunch\, 4-uurtje en piratenkleren \nEinde: 17 uur basis \nAansluitend vrijwilligers drink voor al onze vrijwilligers
URL:https://langewapper.be/event/piratendag-arrrh/
CATEGORIES:Wolven
END:VEVENT
END:VCALENDAR