BEGIN:VCALENDAR
VERSION:2.0
PRODID:-//FOS Lange Wapper - ECPv6.15.20//NONSGML v1.0//EN
CALSCALE:GREGORIAN
METHOD:PUBLISH
X-WR-CALNAME:FOS Lange Wapper
X-ORIGINAL-URL:https://langewapper.be
X-WR-CALDESC:Evenementen voor FOS Lange Wapper
REFRESH-INTERVAL;VALUE=DURATION:PT1H
X-Robots-Tag:noindex
X-PUBLISHED-TTL:PT1H
BEGIN:VTIMEZONE
TZID:UTC
BEGIN:STANDARD
TZOFFSETFROM:+0000
TZOFFSETTO:+0000
TZNAME:UTC
DTSTART:20240101T000000
END:STANDARD
END:VTIMEZONE
BEGIN:VEVENT
DTSTART;TZID=UTC:20251005T094500
DTEND;TZID=UTC:20251005T170000
DTSTAMP:20260420T043240
CREATED:20250914T144503Z
LAST-MODIFIED:20250918T192449Z
UID:4389-1759657500-1759683600@langewapper.be
SUMMARY:Wie o wie is de (nieuwe?) leiding
DESCRIPTION:Bijeenkomst: basis in Tip-Top zomeruniform \nMeebrengen: Lunch\, vieruurtje en speelkledij\, een leuk weetje over jezelf \nEinde: 17u basis
URL:https://langewapper.be/event/wie-o-wie-is-de-nieuweleiding/
LOCATION:Basis\, Beatrijslijn 41\, Antwerpen\, 2050\, Belgium
CATEGORIES:Wolven
END:VEVENT
BEGIN:VEVENT
DTSTART;TZID=UTC:20251012T094500
DTEND;TZID=UTC:20251012T170000
DTSTAMP:20260420T043240
CREATED:20250914T144622Z
LAST-MODIFIED:20250918T192658Z
UID:4392-1760262300-1760288400@langewapper.be
SUMMARY:Zeil je voor het eerst?
DESCRIPTION:Bijeenkomst: basis in Tip-Top zomeruniform \nMeebrengen: Lunch\, vieruurtje en speelkledij \nEinde: 17u basis
URL:https://langewapper.be/event/zeil-je-voor-het-eerst/
LOCATION:Basis\, Beatrijslijn 41\, Antwerpen\, 2050\, Belgium
CATEGORIES:Wolven
END:VEVENT
BEGIN:VEVENT
DTSTART;TZID=UTC:20251019T094500
DTEND;TZID=UTC:20251019T170000
DTSTAMP:20260420T043240
CREATED:20250914T193647Z
LAST-MODIFIED:20250918T193143Z
UID:4444-1760867100-1760893200@langewapper.be
SUMMARY:1 voor allen\, allen voor 1
DESCRIPTION:Bijeenkomst: basis in Tip-Top zomeruniform \nMeenemen: lunch\, vieruurtje\, speelkledij en camouflagekleren \nEinde: 17u basis
URL:https://langewapper.be/event/1-voor-allen-allen-voor-1/
LOCATION:Basis\, Beatrijslijn 41\, Antwerpen\, 2050\, Belgium
CATEGORIES:Wolven
END:VEVENT
BEGIN:VEVENT
DTSTART;TZID=UTC:20251025T094500
DTEND;TZID=UTC:20251026T170000
DTSTAMP:20260420T043240
CREATED:20250914T144801Z
LAST-MODIFIED:20250914T144801Z
UID:4394-1761385500-1761498000@langewapper.be
SUMMARY:Halloween weekend
DESCRIPTION:Bijeenkomst: zaterdag 9u45 basis in Tip-Top zomeruniform \nMeebrengen: Lunch\, vieruurtje\, speelkledij en Halloweenkleren \nEinde: zondag 17u basis
URL:https://langewapper.be/event/halloween-weekend/
LOCATION:Basis\, Beatrijslijn 41\, Antwerpen\, 2050\, Belgium
CATEGORIES:Wolven
END:VEVENT
END:VCALENDAR