BEGIN:VCALENDAR
VERSION:2.0
PRODID:-//FOS Lange Wapper - ECPv6.15.19//NONSGML v1.0//EN
CALSCALE:GREGORIAN
METHOD:PUBLISH
X-WR-CALNAME:FOS Lange Wapper
X-ORIGINAL-URL:https://langewapper.be
X-WR-CALDESC:Evenementen voor FOS Lange Wapper
REFRESH-INTERVAL;VALUE=DURATION:PT1H
X-Robots-Tag:noindex
X-PUBLISHED-TTL:PT1H
BEGIN:VTIMEZONE
TZID:UTC
BEGIN:STANDARD
TZOFFSETFROM:+0000
TZOFFSETTO:+0000
TZNAME:UTC
DTSTART:20250101T000000
END:STANDARD
END:VTIMEZONE
BEGIN:VEVENT
DTSTART;TZID=UTC:20260201T080000
DTEND;TZID=UTC:20260201T170000
DTSTAMP:20260419T161339
CREATED:20251230T184449Z
LAST-MODIFIED:20251230T202604Z
UID:8124-1769932800-1769965200@langewapper.be
SUMMARY:Dagje op avontuur in het Middelheim
DESCRIPTION:Bijeenkomst: 10u30 aan Middelheimmuseum in tiptop winteruniform. \nMeebrengen: lunch\, 4-uurtje & speelkledij \nEinde: 16u aan Middelheimmuseum
URL:https://langewapper.be/event/dagje-op-avontuur-in-het-middelheim/
LOCATION:Middelheimmuseum\, Middelheimlaan 61\, antwerpen\, 2020\, Belgium
CATEGORIES:Welpen
END:VEVENT
BEGIN:VEVENT
DTSTART;VALUE=DATE:20260208
DTEND;VALUE=DATE:20260209
DTSTAMP:20260419T161339
CREATED:20251230T161745Z
LAST-MODIFIED:20251230T183832Z
UID:8101-1770508800-1770595199@langewapper.be
SUMMARY:Geen bijeenkomst
DESCRIPTION:De leiding ruimt op…
URL:https://langewapper.be/event/geen-bijeenkomst-5/
CATEGORIES:Aspiranten,Juniors,Seniors,Welpen,Wolven,Zeehonden
END:VEVENT
BEGIN:VEVENT
DTSTART;TZID=UTC:20260215T094500
DTEND;TZID=UTC:20260215T170000
DTSTAMP:20260419T161339
CREATED:20251230T183631Z
LAST-MODIFIED:20251230T211511Z
UID:8118-1771148700-1771174800@langewapper.be
SUMMARY:Chilldag
DESCRIPTION:Bijeenkomst: 9u45 basis in tiptop winteruniform. \nMeebrengen: lunch\, 4-uurtje & speelkledij \nEinde: 17u basis
URL:https://langewapper.be/event/chilldag/
LOCATION:Basis\, Beatrijslijn 41\, Antwerpen\, 2050\, Belgium
CATEGORIES:Welpen
END:VEVENT
BEGIN:VEVENT
DTSTART;TZID=UTC:20260221T170000
DTEND;TZID=UTC:20260221T200000
DTSTAMP:20260419T161339
CREATED:20251230T162219Z
LAST-MODIFIED:20251230T162219Z
UID:8107-1771693200-1771704000@langewapper.be
SUMMARY:Kroatische eetavond
DESCRIPTION:Ten voordele van het buitenlands kamp van de Seniors. \nVerder info & inschrijflink volgen nog…
URL:https://langewapper.be/event/kroatische-eetavond/
LOCATION:Basis\, Beatrijslijn 41\, Antwerpen\, 2050\, Belgium
CATEGORIES:Aspiranten,Juniors,Seniors,Slepers,Welpen,Wolven,Zeehonden
END:VEVENT
BEGIN:VEVENT
DTSTART;TZID=UTC:20260222T130000
DTEND;TZID=UTC:20260222T170000
DTSTAMP:20260419T161339
CREATED:20251230T183748Z
LAST-MODIFIED:20251230T211607Z
UID:8120-1771765200-1771779600@langewapper.be
SUMMARY:Kokkerellen met de welpen - kookbadge
DESCRIPTION:Bijeenkomst: 13u basis in tiptop winteruniform. \nMeebrengen: lunch\, 4-uurtje & speelkledij \nEinde: 17u basis
URL:https://langewapper.be/event/kokkerellen-met-de-welp-kookbadge/
LOCATION:Basis\, Beatrijslijn 41\, Antwerpen\, 2050\, Belgium
CATEGORIES:Welpen
END:VEVENT
END:VCALENDAR