BEGIN:VCALENDAR
VERSION:2.0
PRODID:-//FOS Lange Wapper - ECPv6.15.19//NONSGML v1.0//EN
CALSCALE:GREGORIAN
METHOD:PUBLISH
X-WR-CALNAME:FOS Lange Wapper
X-ORIGINAL-URL:https://langewapper.be
X-WR-CALDESC:Evenementen voor FOS Lange Wapper
REFRESH-INTERVAL;VALUE=DURATION:PT1H
X-Robots-Tag:noindex
X-PUBLISHED-TTL:PT1H
BEGIN:VTIMEZONE
TZID:UTC
BEGIN:STANDARD
TZOFFSETFROM:+0000
TZOFFSETTO:+0000
TZNAME:UTC
DTSTART:20250101T000000
END:STANDARD
END:VTIMEZONE
BEGIN:VEVENT
DTSTART;TZID=UTC:20260424T200000
DTEND;TZID=UTC:20260426T170000
DTSTAMP:20260419T161444
CREATED:20260221T153822Z
LAST-MODIFIED:20260221T153822Z
UID:8512-1777060800-1777222800@langewapper.be
SUMMARY:The world is a scary place\, but I have my boat
DESCRIPTION:Bijeenkomst: Vrijdag 20u basis in Tip-Top winteruniform \nMeebrengen: Weekendgerief\, zeilkledij\, REDDINGSVEST \nEinde: Zondag 17u basis\, inschrijven via Keeo
URL:https://langewapper.be/event/the-world-is-a-scary-place-but-i-have-my-boat/
CATEGORIES:Juniors
END:VEVENT
END:VCALENDAR