BEGIN:VCALENDAR
VERSION:2.0
PRODID:-//FOS Lange Wapper - ECPv6.15.20//NONSGML v1.0//EN
CALSCALE:GREGORIAN
METHOD:PUBLISH
X-WR-CALNAME:FOS Lange Wapper
X-ORIGINAL-URL:https://langewapper.be
X-WR-CALDESC:Evenementen voor FOS Lange Wapper
REFRESH-INTERVAL;VALUE=DURATION:PT1H
X-Robots-Tag:noindex
X-PUBLISHED-TTL:PT1H
BEGIN:VTIMEZONE
TZID:UTC
BEGIN:STANDARD
TZOFFSETFROM:+0000
TZOFFSETTO:+0000
TZNAME:UTC
DTSTART:20240101T000000
END:STANDARD
END:VTIMEZONE
BEGIN:VEVENT
DTSTART;TZID=UTC:20251019T094500
DTEND;TZID=UTC:20251019T170000
DTSTAMP:20260423T180244
CREATED:20250914T150711Z
LAST-MODIFIED:20250918T194609Z
UID:4414-1760867100-1760893200@langewapper.be
SUMMARY:Zeilen?!?!
DESCRIPTION:Bijeenkomst: 9u45 basis in Tip-Top zomeruniform \nMeebrengen: vieruurtje\, lunch en zeilgerief (REDDINGSVEST!) \nEinde: 17u basis
URL:https://langewapper.be/event/zeilen/
LOCATION:Basis\, Beatrijslijn 41\, Antwerpen\, 2050\, Belgium
CATEGORIES:Juniors
END:VEVENT
END:VCALENDAR