BEGIN:VCALENDAR
VERSION:2.0
PRODID:-//FOS Lange Wapper - ECPv6.15.19//NONSGML v1.0//EN
CALSCALE:GREGORIAN
METHOD:PUBLISH
X-WR-CALNAME:FOS Lange Wapper
X-ORIGINAL-URL:https://langewapper.be
X-WR-CALDESC:Evenementen voor FOS Lange Wapper
REFRESH-INTERVAL;VALUE=DURATION:PT1H
X-Robots-Tag:noindex
X-PUBLISHED-TTL:PT1H
BEGIN:VTIMEZONE
TZID:UTC
BEGIN:STANDARD
TZOFFSETFROM:+0000
TZOFFSETTO:+0000
TZNAME:UTC
DTSTART:20250101T000000
END:STANDARD
END:VTIMEZONE
BEGIN:VEVENT
DTSTART;TZID=UTC:20260406T100000
DTEND;TZID=UTC:20260410T170000
DTSTAMP:20260419T162336
CREATED:20260222T194355Z
LAST-MODIFIED:20260222T194541Z
UID:8525-1775469600-1775840400@langewapper.be
SUMMARY:Zeilcursus: stilstaand
DESCRIPTION:Voo: \n2e jaars ASPI \nJuniors \nInfo & inschrijvingen via KEEO \n——————————– \nZeilen op Stilstaand water\n\nDe Zeilcursus op Stilstaand water wordt jaarlijks georganiseerd voor beginners en gevorderden. Deze vijfdaagse cursus gaat door tijdens de paasvakantie en vindt plaats in Brugge. Beginners leren de basis van het zeilen: zeilbevelen begrijpen\, een zeilboot leren kennen en veelgebruikte knopen. Gevorderden leren om het bevel te voeren over een zeilboot op stilstaand water. Ze ontwikkelen inzicht en leren zowel lijnwerpen als perfecte knopen leggen. \n  \nWanneer: De cursus gaat door tijdens de eerste week van de paasvakantie: maandag 6 april om 10u00 en eindigt op vrijdag 10 april om 17u00. \nWaar: De cursus gaat door op de Nautische basis van 11e-22e FOS De Boekaniers. \nAdres: Lodewijk Coiseaukaai 11d\, 8000 Brugge. \nWie: Deze cursus verwelkomt seascoutsleden vanaf 12 jaar. Als je 12 jaar wordt in het jaar 2026\, mag je ook deelnemen.* \nPrijs: Deelnemen aan deze cursus kost aan het standaardtarief 123\,00 euro.
URL:https://langewapper.be/event/zeilcursus-stilstaand/
LOCATION:11e-22e FOS De Boekaniers\, Lodewijk Coiseaukaai 11d\, Brugge\, 8000\, Belgium
CATEGORIES:Aspiranten,Juniors
END:VEVENT
END:VCALENDAR