BEGIN:VCALENDAR
VERSION:2.0
PRODID:-//FOS Lange Wapper - ECPv6.15.20//NONSGML v1.0//EN
CALSCALE:GREGORIAN
METHOD:PUBLISH
X-ORIGINAL-URL:https://langewapper.be
X-WR-CALDESC:Evenementen voor FOS Lange Wapper
REFRESH-INTERVAL;VALUE=DURATION:PT1H
X-Robots-Tag:noindex
X-PUBLISHED-TTL:PT1H
BEGIN:VTIMEZONE
TZID:UTC
BEGIN:STANDARD
TZOFFSETFROM:+0000
TZOFFSETTO:+0000
TZNAME:UTC
DTSTART:20250101T000000
END:STANDARD
END:VTIMEZONE
BEGIN:VEVENT
DTSTART;TZID=UTC:20260215T094500
DTEND;TZID=UTC:20260215T170000
DTSTAMP:20260420T001248
CREATED:20251230T204005Z
LAST-MODIFIED:20251230T204005Z
UID:8148-1771148700-1771174800@langewapper.be
SUMMARY:Ai ai ai\, hoe fix jij die dames?
DESCRIPTION:Bijeenkomst: 9u45 basis in tiptop winteruniform. \nMeebrengen: lunch\, 4-uurtje & WERKkledij \nEinde: 17u basis
URL:https://langewapper.be/event/ai-ai-ai-hoe-fix-jij-die-dames/
LOCATION:Basis\, Beatrijslijn 41\, Antwerpen\, 2050\, Belgium
CATEGORIES:Aspiranten
END:VEVENT
END:VCALENDAR