BEGIN:VCALENDAR
VERSION:2.0
PRODID:-//FOS Lange Wapper - ECPv6.15.19//NONSGML v1.0//EN
CALSCALE:GREGORIAN
METHOD:PUBLISH
X-ORIGINAL-URL:https://langewapper.be
X-WR-CALDESC:Evenementen voor FOS Lange Wapper
REFRESH-INTERVAL;VALUE=DURATION:PT1H
X-Robots-Tag:noindex
X-PUBLISHED-TTL:PT1H
BEGIN:VTIMEZONE
TZID:UTC
BEGIN:STANDARD
TZOFFSETFROM:+0000
TZOFFSETTO:+0000
TZNAME:UTC
DTSTART:20250101T000000
END:STANDARD
END:VTIMEZONE
BEGIN:VEVENT
DTSTART;TZID=UTC:20260301T100000
DTEND;TZID=UTC:20260301T170000
DTSTAMP:20260419T144317
CREATED:20260221T112709Z
LAST-MODIFIED:20260221T112928Z
UID:8469-1772359200-1772384400@langewapper.be
SUMMARY:MomASco
DESCRIPTION:Bijeenkomst: 10 u Peter Benoîtlaan 31\, 2100 Antwerpen in Tip-Top winteruniform \nMeebrengen: Middageten\, 4-uurtje\, gevulde drinkbus\, aangepaste kledij aan het weer. \nEinde: 17 u Peter Benoîtlaan 31\, 2100 Antwerpen
URL:https://langewapper.be/event/momasco/
LOCATION:Peter Benoitlaan 31\, Peter Benoîtlaan 31\, Antwerpen\, Antwerpen\, 2100\, Belgium
CATEGORIES:Aspiranten,Seniors,Welpen,Wolven,Zeehonden
END:VEVENT
BEGIN:VEVENT
DTSTART;TZID=UTC:20260307T094500
DTEND;TZID=UTC:20260307T170000
DTSTAMP:20260419T144317
CREATED:20260221T113437Z
LAST-MODIFIED:20260221T113437Z
UID:8472-1772876700-1772902800@langewapper.be
SUMMARY:Het GROTE LANGE WAPPER evenement
DESCRIPTION:Bijeenkomst: Zaterdag 9u45in Tip-Top winteruniform \nMeebrengen: lunch\, 4-uurtje\, speelkledij \nEinde: 17u – Locatie en meer info volgt later via mail
URL:https://langewapper.be/event/het-grote-lange-wapper-evenement/
CATEGORIES:Aspiranten,Juniors,Seniors,Welpen,Wolven,Zeehonden
END:VEVENT
BEGIN:VEVENT
DTSTART;TZID=UTC:20260315T094500
DTEND;TZID=UTC:20260315T170000
DTSTAMP:20260419T144317
CREATED:20260221T114334Z
LAST-MODIFIED:20260221T114334Z
UID:8476-1773567900-1773594000@langewapper.be
SUMMARY:Rarara Wie zijn deze leiding...
DESCRIPTION:Bijeenkomst: 9u45 basis in Tip-Top winteruniform \nMeebrengen: lunch\, 4-uurtje en speelkledij \nEinde: 17 u basis
URL:https://langewapper.be/event/rarara-wie-zijn-deze-leiding-2/
CATEGORIES:Aspiranten,Juniors,Seniors,Welpen,Wolven
END:VEVENT
BEGIN:VEVENT
DTSTART;TZID=UTC:20260322T090000
DTEND;TZID=UTC:20260322T180000
DTSTAMP:20260419T144317
CREATED:20260221T150058Z
LAST-MODIFIED:20260221T150058Z
UID:8502-1774170000-1774202400@langewapper.be
SUMMARY:Naar de parking!!
DESCRIPTION:Bijeenkomst: 9u Centraal Station in Tip-Top winteruniform \nMeebrengen: lunch\, 4-uurtje\, 10 euro en drinkbus \nEinde: 18u Centraal Station \nAansluitend vrijwilligers drink voor al onze vrijwilligers
URL:https://langewapper.be/event/naar-de-parking/
LOCATION:Centraal Station Antwerpen\, Koningin Astridplein 27\, Antwerpen\, Antwerpen\, 2018
CATEGORIES:Aspiranten
END:VEVENT
BEGIN:VEVENT
DTSTART;TZID=UTC:20260329T094500
DTEND;TZID=UTC:20260329T170000
DTSTAMP:20260419T144317
CREATED:20260221T150357Z
LAST-MODIFIED:20260221T150357Z
UID:8505-1774777500-1774803600@langewapper.be
SUMMARY:Work hard play hard
DESCRIPTION:Bijeenkomst: 9u45 basis in Tip-Top winteruniform \nMeebrengen: lunch\, 4-uurtje en speelkledij \nEinde: 17u basis \nAansluitend spaghettifestijn van de juniors\, inschrijven via Keeo
URL:https://langewapper.be/event/work-hard-play-hard/
CATEGORIES:Aspiranten
END:VEVENT
END:VCALENDAR