BEGIN:VCALENDAR
VERSION:2.0
PRODID:-//FOS Lange Wapper - ECPv6.15.20//NONSGML v1.0//EN
CALSCALE:GREGORIAN
METHOD:PUBLISH
X-ORIGINAL-URL:https://langewapper.be
X-WR-CALDESC:Evenementen voor FOS Lange Wapper
REFRESH-INTERVAL;VALUE=DURATION:PT1H
X-Robots-Tag:noindex
X-PUBLISHED-TTL:PT1H
BEGIN:VTIMEZONE
TZID:UTC
BEGIN:STANDARD
TZOFFSETFROM:+0000
TZOFFSETTO:+0000
TZNAME:UTC
DTSTART:20250101T000000
END:STANDARD
END:VTIMEZONE
BEGIN:VEVENT
DTSTART;VALUE=DATE:20260515
DTEND;VALUE=DATE:20260518
DTSTAMP:20260423T233606
CREATED:20260421T093143Z
LAST-MODIFIED:20260421T191204Z
UID:8694-1778803200-1779062399@langewapper.be
SUMMARY:Zeil Aan Zee
DESCRIPTION:Een weekend vol Wappers plezier op de Blankenbergse havenfeesten. Kom met je gezin mee kamperen! \nInschrijven: HIER \nGeen andere scoutsactiviteiten op zondag!
URL:https://langewapper.be/event/zeil-aan-zee-3/
LOCATION:9e FOS Wandelaar (achteringang)\, Wenduinsesteenweg 16\, Blankenberge\, 8370\, Belgium
CATEGORIES:Aspiranten,de Wapperse Familie,Juniors,Welpen,Wolven,Zeehonden
END:VEVENT
BEGIN:VEVENT
DTSTART;TZID=UTC:20260628T170000
DTEND;TZID=UTC:20260628T200000
DTSTAMP:20260423T233606
CREATED:20251215T211338Z
LAST-MODIFIED:20260421T184321Z
UID:8045-1782666000-1782676800@langewapper.be
SUMMARY:Seizoensafsluiter: BBQ!
DESCRIPTION:De jaarlijkse Wapperse FamilieBBQ! \nInschrijven: HIER
URL:https://langewapper.be/event/bbq/
LOCATION:Basis\, Beatrijslijn 41\, Antwerpen\, 2050\, Belgium
CATEGORIES:Aspiranten,de Wapperse Familie,Juniors,Seniors,Slepers,Welpen,Wolven,Zeehonden
END:VEVENT
END:VCALENDAR