BEGIN:VCALENDAR
VERSION:2.0
PRODID:-//FOS Lange Wapper - ECPv6.15.20//NONSGML v1.0//EN
CALSCALE:GREGORIAN
METHOD:PUBLISH
X-ORIGINAL-URL:https://langewapper.be
X-WR-CALDESC:Evenementen voor FOS Lange Wapper
REFRESH-INTERVAL;VALUE=DURATION:PT1H
X-Robots-Tag:noindex
X-PUBLISHED-TTL:PT1H
BEGIN:VTIMEZONE
TZID:UTC
BEGIN:STANDARD
TZOFFSETFROM:+0000
TZOFFSETTO:+0000
TZNAME:UTC
DTSTART:20250101T000000
END:STANDARD
END:VTIMEZONE
BEGIN:VEVENT
DTSTART;TZID=UTC:20260215T110000
DTEND;TZID=UTC:20260215T133000
DTSTAMP:20260420T035842
CREATED:20251215T205542Z
LAST-MODIFIED:20260202T191109Z
UID:8031-1771153200-1771162200@langewapper.be
SUMMARY:Koorconcert - Benefiet voor de Lange Wapper
DESCRIPTION:Koorlink vzw  nodigt ons uit op een duoconcert in AMUZ.\nHet mannenkoor Terpander en Flanders Boys choir brengen een hemels optreden in de mooiste concertzaal van Antwerpen.\nEen deel van de opbrengst komt ten goede aan onze scoutswerking!\nAMUZ\, kammenstraat Antwerpen\nInkom : € 25\,-\nVerkoop : De Meermin bij Rudi\n                of door storting  x € 25\,- op rekeningnummer BE53 7390 1195 5653 met vermelding naam + 15/02
URL:https://langewapper.be/event/koorconcert-benefiet-voor-de-lange-wapper/
LOCATION:Amuz Antwerpen\, Kammenstraat 81\, Antwerpen\, Belgium
CATEGORIES:t.v.v. Scoutswerking
END:VEVENT
BEGIN:VEVENT
DTSTART;TZID=UTC:20260222T110000
DTEND;TZID=UTC:20260222T150000
DTSTAMP:20260420T035842
CREATED:20251215T210150Z
LAST-MODIFIED:20251230T202643Z
UID:8033-1771758000-1771772400@langewapper.be
SUMMARY:Algemene Vergadering VKLW
DESCRIPTION:UITNODIGING \nVriendenkring Lange Wapper vzw \nSTATUTAIRE ALGEMENE VERGADERING \nZONDAG 22 FEBRUARI 2026 – 11h00 – Scoutsbasis Lange Wapper \nIedereen is welkom. \nAlleen effectieve leden hebben stemrecht*. \nVoor de AV\, worden alle aanwezigen traditiegetrouw getrakteerd op een heerlijk ontbijt vanaf 9h30 (enkel op voorinschrijving – volg daarvoor deze link! ). \nAGENDA \n\nOpening & controle aanwezigen en leden\, vaststellen quorum\nAanstelling stemopnemers (2)\nGoedkeuring verslag AV januari 2025\nWerkings- en Financieelverslag 2025\nOntlasting Bestuursorgaan door rekeningtoezichthouders\nAanstelling rekeningtoezichthouders\nKwijting van de bestuurders\nStatutaire benoemingen en ontslagen bestuursorgaan\nGoedkeuring aanpassing statuten aan WVV\nAnkerpunten en begroting 2026\nWerkings- en financieelverslag Tapawingo vzw – kwijting van de bestuurders\nVaria\nSluiting AV\n\nNa de AV vertelt de eenheidsleider alle weetjes over de werking van de tofste bende van’t stad en verklapt hij al hun toekomstdromen. \n*Effectief lid : Lidgeld 2026 betaald hebben + aanwezig op AV of volmacht hebben gegeven.  Principiële aanvaarding door het Bestuursorgaan is statutair voorzien. \nEffectieve leden die zich kandidaat willen stellen voor het Bestuursorgaan kunnen dit doen door een gemotiveerd schrijven te richten aan de voorzitter en dit voor 30 januari 2026. \nAgenda & volmachtformulier \n 
URL:https://langewapper.be/event/algemene-vergadering-vklw/
LOCATION:Basis\, Beatrijslijn 41\, Antwerpen\, 2050\, Belgium
CATEGORIES:t.v.v. Scoutswerking
END:VEVENT
BEGIN:VEVENT
DTSTART;VALUE=DATE:20260322
DTEND;VALUE=DATE:20260323
DTSTAMP:20260420T035842
CREATED:20251215T210259Z
LAST-MODIFIED:20251215T210259Z
UID:8035-1774137600-1774223999@langewapper.be
SUMMARY:Happy Hour - vrijwilligers
DESCRIPTION:meer info volgt
URL:https://langewapper.be/event/happy-hour-vrijwilligers/
LOCATION:Basis\, Beatrijslijn 41\, Antwerpen\, 2050\, Belgium
CATEGORIES:t.v.v. Scoutswerking
END:VEVENT
BEGIN:VEVENT
DTSTART;TZID=UTC:20260329T120000
DTEND;TZID=UTC:20260329T200000
DTSTAMP:20260420T035842
CREATED:20251215T210413Z
LAST-MODIFIED:20260126T094801Z
UID:8037-1774785600-1774814400@langewapper.be
SUMMARY:Spaghettifestijn
DESCRIPTION:  \nVóór 20 maart HIER inschrijven 😉
URL:https://langewapper.be/event/spaghettifestijn/
LOCATION:Basis\, Beatrijslijn 41\, Antwerpen\, 2050\, Belgium
CATEGORIES:t.v.v. Scoutswerking,Wapperse Kost
ATTACH;FMTTYPE=image/png:https://langewapper.be/wp-content/uploads/2025/12/Spaghetti.png
END:VEVENT
BEGIN:VEVENT
DTSTART;TZID=UTC:20260425T073000
DTEND;TZID=UTC:20260425T230000
DTSTAMP:20260420T035842
CREATED:20260408T172208Z
LAST-MODIFIED:20260408T172208Z
UID:8611-1777102200-1777158000@langewapper.be
SUMMARY:Dé Lange Wapper Quiz
DESCRIPTION:De Seniors Organiseren een quiz ten voordele van hun buitenlands kamp \nWaar? Op de Basis \nWanneer? 25 april om 19u30 \nInschrijven: hier! \n(team = €30\,- 4 à 6 personen; individueel = €5\,- & je komt in een verassingsteam!)
URL:https://langewapper.be/event/de-lange-wapper-quiz/
LOCATION:Basis\, Beatrijslijn 41\, Antwerpen\, 2050\, Belgium
CATEGORIES:t.v.v. Scoutswerking
END:VEVENT
BEGIN:VEVENT
DTSTART;TZID=UTC:20260503T094500
DTEND;TZID=UTC:20260503T183000
DTSTAMP:20260420T035842
CREATED:20251215T210557Z
LAST-MODIFIED:20260415T072054Z
UID:8039-1777801500-1777833000@langewapper.be
SUMMARY:Opening Vaarseizoen 2026 & Kippenfestijn
DESCRIPTION:De scouts en gidsen van de 1ste FOS Lange Wapper nodigen u uit op hun opening vaarseizoen. \nZondag 3 mei 2026 \n\n10u: Koffiebar & theebar\n11u: 1ste FOS Lange Wapper opent voor de 112de keer plechtig het vaarseizoen.\n\nGastspreker: Ingrid Vermeir – Directeur van GO! De Scheepvaartschool\n\n\n12u: Receptie met vrolijke zanger accordeonist Speelman Iwein\n\nHapje\, tapje…. gezelligheid troef in de Meermin en op het zonneterras.\nDoorlopend eet- en drankstandjes.\nFamilieactiviteiten voor ouders en leden\n\n\n17u: KIPPENFESTIJN (hier inschrijven)
URL:https://langewapper.be/event/opening-vaarseizoen-2026/
LOCATION:Basis\, Beatrijslijn 41\, Antwerpen\, 2050\, Belgium
CATEGORIES:Aspiranten,Juniors,Seniors,Slepers,t.v.v. Scoutswerking,Welpen,Wolven,Zeehonden
END:VEVENT
BEGIN:VEVENT
DTSTART;TZID=UTC:20260628T163000
DTEND;TZID=UTC:20260628T200000
DTSTAMP:20260420T035842
CREATED:20251215T211338Z
LAST-MODIFIED:20260408T193611Z
UID:8045-1782664200-1782676800@langewapper.be
SUMMARY:BBQ
DESCRIPTION:Seizoensafsluiter! \nMenu & nadere info volgt!
URL:https://langewapper.be/event/bbq/
LOCATION:Basis\, Beatrijslijn 41\, Antwerpen\, 2050\, Belgium
CATEGORIES:Aspiranten,Juniors,Seniors,Slepers,t.v.v. Scoutswerking,Welpen,Wolven,Zeehonden
END:VEVENT
END:VCALENDAR