BEGIN:VCALENDAR
VERSION:2.0
PRODID:-//FOS Lange Wapper - ECPv6.15.20//NONSGML v1.0//EN
CALSCALE:GREGORIAN
METHOD:PUBLISH
X-WR-CALNAME:FOS Lange Wapper
X-ORIGINAL-URL:https://langewapper.be
X-WR-CALDESC:Evenementen voor FOS Lange Wapper
REFRESH-INTERVAL;VALUE=DURATION:PT1H
X-Robots-Tag:noindex
X-PUBLISHED-TTL:PT1H
BEGIN:VTIMEZONE
TZID:UTC
BEGIN:STANDARD
TZOFFSETFROM:+0000
TZOFFSETTO:+0000
TZNAME:UTC
DTSTART:20240101T000000
END:STANDARD
END:VTIMEZONE
BEGIN:VEVENT
DTSTART;TZID=UTC:20251102T173000
DTEND;TZID=UTC:20251102T173000
DTSTAMP:20260423T161032
CREATED:20251028T081657Z
LAST-MODIFIED:20251029T142936Z
UID:7555-1762104600-1762104600@langewapper.be
SUMMARY:Wapperse kost
DESCRIPTION:Spijtig genoeg is er vandaag geen Wapperse kost…
URL:https://langewapper.be/event/wapperse-kost/
CATEGORIES:Wapperse Kost
END:VEVENT
END:VCALENDAR