BEGIN:VCALENDAR
VERSION:2.0
PRODID:-//FOS Lange Wapper - ECPv6.15.20//NONSGML v1.0//EN
CALSCALE:GREGORIAN
METHOD:PUBLISH
X-ORIGINAL-URL:https://langewapper.be
X-WR-CALDESC:Evenementen voor FOS Lange Wapper
REFRESH-INTERVAL;VALUE=DURATION:PT1H
X-Robots-Tag:noindex
X-PUBLISHED-TTL:PT1H
BEGIN:VTIMEZONE
TZID:UTC
BEGIN:STANDARD
TZOFFSETFROM:+0000
TZOFFSETTO:+0000
TZNAME:UTC
DTSTART:20250101T000000
END:STANDARD
END:VTIMEZONE
BEGIN:VEVENT
DTSTART;TZID=UTC:20260413T080000
DTEND;TZID=UTC:20260621T190000
DTSTAMP:20260423T084436
CREATED:20260413T140155Z
LAST-MODIFIED:20260413T140155Z
UID:8658-1776067200-1782068400@langewapper.be
SUMMARY:Wapperse kost
DESCRIPTION:Alle details: Zie HIER! \nVergeet de Michelinsterren\, bij Scouts Lange Wapper gaan we voor de Wapperse Kost!\nElke zondag toveren we onze scouts om tot het gezelligste restaurant van de buurt. Geen sterrenmaaltijden\, wel eerlijke kost en een flinke portie sfeer! \nGezelligheid is ons hoofdingrediënt\, een lekkere hap de kers op de taart. \nHet Recept voor een topavond: \n\n\nToegankelijke Kost: Kook iets waar ook onze kleinste Wappertjes hun vingers bij aflikken. \n\n\nChef-waardig: Jullie regelen de boodschappen en het kookwerk. Presenteren mag in buffetvorm! \n\n\nTeamwork: De koks wassen de potten\, de eters de borden. \n\n\nAan tafel: We serveren om 17u30 in de Meermin. \n\n\n 
URL:https://langewapper.be/event/wapperse-kost-2/
CATEGORIES:Wapperse Kost
END:VEVENT
BEGIN:VEVENT
DTSTART;VALUE=DATE:20260515
DTEND;VALUE=DATE:20260518
DTSTAMP:20260423T084436
CREATED:20251215T210736Z
LAST-MODIFIED:20251215T210736Z
UID:8041-1778803200-1779062399@langewapper.be
SUMMARY:Zeil aan Zee
DESCRIPTION:meer info volgt
URL:https://langewapper.be/event/zeil-aan-zee-2/
CATEGORIES:Activiteiten
END:VEVENT
BEGIN:VEVENT
DTSTART;VALUE=DATE:20260515
DTEND;VALUE=DATE:20260518
DTSTAMP:20260423T084436
CREATED:20260421T093143Z
LAST-MODIFIED:20260421T191204Z
UID:8694-1778803200-1779062399@langewapper.be
SUMMARY:Zeil Aan Zee
DESCRIPTION:Een weekend vol Wappers plezier op de Blankenbergse havenfeesten. Kom met je gezin mee kamperen! \nInschrijven: HIER \nGeen andere scoutsactiviteiten op zondag!
URL:https://langewapper.be/event/zeil-aan-zee-3/
LOCATION:9e FOS Wandelaar (achteringang)\, Wenduinsesteenweg 16\, Blankenberge\, 8370\, Belgium
CATEGORIES:Aspiranten,de Wapperse Familie,Juniors,Welpen,Wolven,Zeehonden
END:VEVENT
BEGIN:VEVENT
DTSTART;TZID=UTC:20260516T094500
DTEND;TZID=UTC:20260517T190000
DTSTAMP:20260423T084436
CREATED:20260421T093437Z
LAST-MODIFIED:20260421T093437Z
UID:8696-1778924700-1779044400@langewapper.be
SUMMARY:Z-z-zeilen
DESCRIPTION:Bijeenkomst: Zaterdag 9u45 basis in Tip-Top zomeruniform \nMeebrengen: Zeilgerief\, weekendgerief\, zie inschrijvingen Keeo \nEinde: Zondag 19u basis
URL:https://langewapper.be/event/z-z-zeilen/
CATEGORIES:Seniors
END:VEVENT
BEGIN:VEVENT
DTSTART;TZID=UTC:20260517T173000
DTEND;TZID=UTC:20260517T193000
DTSTAMP:20260423T084436
CREATED:20260421T173528Z
LAST-MODIFIED:20260421T173528Z
UID:8783-1779039000-1779046200@langewapper.be
SUMMARY:Wapperse kost
DESCRIPTION:zie HIER
URL:https://langewapper.be/event/wapperse-kost-4/
CATEGORIES:Wapperse Kost
END:VEVENT
END:VCALENDAR