BEGIN:VCALENDAR
VERSION:2.0
PRODID:-//FOS Lange Wapper - ECPv6.15.19//NONSGML v1.0//EN
CALSCALE:GREGORIAN
METHOD:PUBLISH
X-WR-CALNAME:FOS Lange Wapper
X-ORIGINAL-URL:https://langewapper.be
X-WR-CALDESC:Evenementen voor FOS Lange Wapper
REFRESH-INTERVAL;VALUE=DURATION:PT1H
X-Robots-Tag:noindex
X-PUBLISHED-TTL:PT1H
BEGIN:VTIMEZONE
TZID:UTC
BEGIN:STANDARD
TZOFFSETFROM:+0000
TZOFFSETTO:+0000
TZNAME:UTC
DTSTART:20250101T000000
END:STANDARD
END:VTIMEZONE
BEGIN:VEVENT
DTSTART;TZID=UTC:20260220T200000
DTEND;TZID=UTC:20260222T130000
DTSTAMP:20260419T171822
CREATED:20251230T211103Z
LAST-MODIFIED:20251230T211103Z
UID:8180-1771617600-1771765200@langewapper.be
SUMMARY:Kroatische eetavond weekend
DESCRIPTION:Bijeenkomst: vrijdag 20u basis in tiptop winteruniform. \nMeebrengen: weekendkledij/gerief & kroatische fit \nEinde: zondag 13u basis
URL:https://langewapper.be/event/kroatische-eetavond-weekend/
LOCATION:Basis\, Beatrijslijn 41\, Antwerpen\, 2050\, Belgium
CATEGORIES:Seniors
END:VEVENT
BEGIN:VEVENT
DTSTART;TZID=UTC:20260222T110000
DTEND;TZID=UTC:20260222T150000
DTSTAMP:20260419T171822
CREATED:20251215T210150Z
LAST-MODIFIED:20251230T202643Z
UID:8033-1771758000-1771772400@langewapper.be
SUMMARY:Algemene Vergadering VKLW
DESCRIPTION:UITNODIGING \nVriendenkring Lange Wapper vzw \nSTATUTAIRE ALGEMENE VERGADERING \nZONDAG 22 FEBRUARI 2026 – 11h00 – Scoutsbasis Lange Wapper \nIedereen is welkom. \nAlleen effectieve leden hebben stemrecht*. \nVoor de AV\, worden alle aanwezigen traditiegetrouw getrakteerd op een heerlijk ontbijt vanaf 9h30 (enkel op voorinschrijving – volg daarvoor deze link! ). \nAGENDA \n\nOpening & controle aanwezigen en leden\, vaststellen quorum\nAanstelling stemopnemers (2)\nGoedkeuring verslag AV januari 2025\nWerkings- en Financieelverslag 2025\nOntlasting Bestuursorgaan door rekeningtoezichthouders\nAanstelling rekeningtoezichthouders\nKwijting van de bestuurders\nStatutaire benoemingen en ontslagen bestuursorgaan\nGoedkeuring aanpassing statuten aan WVV\nAnkerpunten en begroting 2026\nWerkings- en financieelverslag Tapawingo vzw – kwijting van de bestuurders\nVaria\nSluiting AV\n\nNa de AV vertelt de eenheidsleider alle weetjes over de werking van de tofste bende van’t stad en verklapt hij al hun toekomstdromen. \n*Effectief lid : Lidgeld 2026 betaald hebben + aanwezig op AV of volmacht hebben gegeven.  Principiële aanvaarding door het Bestuursorgaan is statutair voorzien. \nEffectieve leden die zich kandidaat willen stellen voor het Bestuursorgaan kunnen dit doen door een gemotiveerd schrijven te richten aan de voorzitter en dit voor 30 januari 2026. \nAgenda & volmachtformulier \n 
URL:https://langewapper.be/event/algemene-vergadering-vklw/
LOCATION:Basis\, Beatrijslijn 41\, Antwerpen\, 2050\, Belgium
CATEGORIES:t.v.v. Scoutswerking
END:VEVENT
BEGIN:VEVENT
DTSTART;TZID=UTC:20260222T120000
DTEND;TZID=UTC:20260222T160000
DTSTAMP:20260419T171822
CREATED:20251230T202935Z
LAST-MODIFIED:20251230T202935Z
UID:8138-1771761600-1771776000@langewapper.be
SUMMARY:Op naar de TOP!
DESCRIPTION:Bijeenkomst: 12u Klimzaal Blok in tiptop winteruniform. \nMeebrengen: 4-uurtje & sportkledij \nEinde: 16u klimzaal Blok
URL:https://langewapper.be/event/op-naar-de-top/
LOCATION:Klimzaal Blok\, IJskelderstraat 12\, Antwerpen\, 2660\, Belgium
CATEGORIES:Wolven
END:VEVENT
BEGIN:VEVENT
DTSTART;TZID=UTC:20260222T120000
DTEND;TZID=UTC:20260222T190000
DTSTAMP:20260419T171822
CREATED:20251230T220156Z
LAST-MODIFIED:20251230T220208Z
UID:8205-1771761600-1771786800@langewapper.be
SUMMARY:Wapperse KOKS gezocht - februari 2026
DESCRIPTION:Wil jij graag een keertje koken op zondag? Kies een datum en laat ons weten wat je wenst te maken. \nPrijs : 8 euro en 8\,5 euro Take away\nDAGDAGELIJKSE KOST\,\nKok beslist zelf of hij/zij/hen veggie alternatief voorziet.\nRichtprijs aankopen : +/- € 5.00\,- p/p
URL:https://langewapper.be/event/wapperse-koks-gezocht-januari-februari-2026/
LOCATION:Basis\, Beatrijslijn 41\, Antwerpen\, 2050\, Belgium
CATEGORIES:Wapperse Kost
END:VEVENT
BEGIN:VEVENT
DTSTART;TZID=UTC:20260222T130000
DTEND;TZID=UTC:20260222T170000
DTSTAMP:20260419T171822
CREATED:20251230T162347Z
LAST-MODIFIED:20251230T204325Z
UID:8109-1771765200-1771779600@langewapper.be
SUMMARY:Ka-Chow\, met de snelheid van het licht
DESCRIPTION:Bijeenkomst: 13u basis in tiptop winteruniform. \nMeebrengen: 4-uurtje\, je beste Cars outfit \nEinde: 17u basis
URL:https://langewapper.be/event/ka-chow-met-de-snelheid-van-het-licht/
LOCATION:Basis\, Beatrijslijn 41\, Antwerpen\, 2050\, Belgium
CATEGORIES:Zeehonden
END:VEVENT
BEGIN:VEVENT
DTSTART;TZID=UTC:20260222T130000
DTEND;TZID=UTC:20260222T170000
DTSTAMP:20260419T171822
CREATED:20251230T183748Z
LAST-MODIFIED:20251230T211607Z
UID:8120-1771765200-1771779600@langewapper.be
SUMMARY:Kokkerellen met de welpen - kookbadge
DESCRIPTION:Bijeenkomst: 13u basis in tiptop winteruniform. \nMeebrengen: lunch\, 4-uurtje & speelkledij \nEinde: 17u basis
URL:https://langewapper.be/event/kokkerellen-met-de-welp-kookbadge/
LOCATION:Basis\, Beatrijslijn 41\, Antwerpen\, 2050\, Belgium
CATEGORIES:Welpen
END:VEVENT
BEGIN:VEVENT
DTSTART;TZID=UTC:20260222T130000
DTEND;TZID=UTC:20260222T170000
DTSTAMP:20260419T171822
CREATED:20251230T204106Z
LAST-MODIFIED:20251230T204106Z
UID:8150-1771765200-1771779600@langewapper.be
SUMMARY:Harry Potter & de Middenvijver
DESCRIPTION:Bijeenkomst: 13u basis in tiptop winteruniform. \nMeebrengen: 4-uurtje & speelkledij \nEinde: 17u basis
URL:https://langewapper.be/event/harry-potter-de-middenvijver/
LOCATION:Basis\, Beatrijslijn 41\, Antwerpen\, 2050\, Belgium
CATEGORIES:Aspiranten
END:VEVENT
BEGIN:VEVENT
DTSTART;TZID=UTC:20260222T130000
DTEND;TZID=UTC:20260222T170000
DTSTAMP:20260419T171822
CREATED:20251230T205233Z
LAST-MODIFIED:20251230T205233Z
UID:8162-1771765200-1771779600@langewapper.be
SUMMARY:Bob de Bouwer\, kunnen wij het maken?
DESCRIPTION:Bijeenkomst: 13u basis in tiptop winteruniform. \nMeebrengen: lunch\, 4-uurtje & speelkledij \nEinde: 17u basis
URL:https://langewapper.be/event/bob-de-bouwer-kunnen-wij-het-maken/
LOCATION:Basis\, Beatrijslijn 41\, Antwerpen\, 2050\, Belgium
CATEGORIES:Juniors
END:VEVENT
END:VCALENDAR