BEGIN:VCALENDAR
VERSION:2.0
PRODID:-//FOS Lange Wapper - ECPv6.15.19//NONSGML v1.0//EN
CALSCALE:GREGORIAN
METHOD:PUBLISH
X-ORIGINAL-URL:https://langewapper.be
X-WR-CALDESC:Evenementen voor FOS Lange Wapper
REFRESH-INTERVAL;VALUE=DURATION:PT1H
X-Robots-Tag:noindex
X-PUBLISHED-TTL:PT1H
BEGIN:VTIMEZONE
TZID:UTC
BEGIN:STANDARD
TZOFFSETFROM:+0000
TZOFFSETTO:+0000
TZNAME:UTC
DTSTART:20250101T000000
END:STANDARD
END:VTIMEZONE
BEGIN:VEVENT
DTSTART;VALUE=DATE:20260111
DTEND;VALUE=DATE:20260112
DTSTAMP:20260419T184829
CREATED:20250101T234134Z
LAST-MODIFIED:20251231T082643Z
UID:8194-1768089600-1768175999@langewapper.be
SUMMARY:Wafelverkoop Seniors
DESCRIPTION:HIER te bestellen t.e.m. 11/1/2026 \nAf te halen: 25/1/26
URL:https://langewapper.be/event/wafelverkoop-seniors/
CATEGORIES:Aspiranten,Juniors,Seniors,Slepers,t.v.v. Scoutswerking,Welpen,Wolven,Zeehonden
END:VEVENT
BEGIN:VEVENT
DTSTART;VALUE=DATE:20260111
DTEND;VALUE=DATE:20260112
DTSTAMP:20260419T184829
CREATED:20251230T184556Z
LAST-MODIFIED:20251230T204203Z
UID:8126-1768089600-1768175999@langewapper.be
SUMMARY:Geen bijeenkomst
DESCRIPTION:Leiding heeft examens
URL:https://langewapper.be/event/geen-bijeenkomst-6/
CATEGORIES:Juniors,Wolven
END:VEVENT
BEGIN:VEVENT
DTSTART;TZID=UTC:20260111T160000
DTEND;TZID=UTC:20260111T180000
DTSTAMP:20260419T184829
CREATED:20251215T204628Z
LAST-MODIFIED:20251230T220918Z
UID:8011-1768147200-1768154400@langewapper.be
SUMMARY:Nieuwjaarsconcert - Benefiet voor de Lange Wapper
DESCRIPTION:Beleef een unieke muzikale middag vol hoop en inspiratie tijdens het Nieuwjaarsconcert op 11 januari 2026. \nMeesterverteller Michaël Pas en het kamerorkest van Terra Nova Collective onthullen de verrassende verhalen achter Joseph Haydn en zijn tijdgenoot Pieter Van Maldere. Humor\, anekdotes en muzikale raadsels voeren het publiek mee in een speels onderzoek vol ontdekking en verwondering. \nEen beleving waarin meesterlijke muziek en meeslepende vertellingen elkaar vinden — sprankelend\, verrassend en diep menselijk. \nJouw aanwezigheid maakt het verschil: de helft van je ticketprijs gaat naar De Lange Wapper \nKaarten: \n€30\,- in ‘De Meermin’ – vraag naar Rudi \nof online: terranovaconcerts.eventgoose.com (+€1\,- servicekost -> kies Lange Wapper).
URL:https://langewapper.be/event/nieuwjaarsconcert-benefiet-voor-de-lange-wapper/
LOCATION:Amuz Antwerpen\, Kammenstraat 81\, Antwerpen\, Belgium
CATEGORIES:t.v.v. Scoutswerking
END:VEVENT
END:VCALENDAR