BEGIN:VCALENDAR
VERSION:2.0
PRODID:-//FOS Lange Wapper - ECPv6.15.20//NONSGML v1.0//EN
CALSCALE:GREGORIAN
METHOD:PUBLISH
X-WR-CALNAME:FOS Lange Wapper
X-ORIGINAL-URL:https://langewapper.be
X-WR-CALDESC:Evenementen voor FOS Lange Wapper
REFRESH-INTERVAL;VALUE=DURATION:PT1H
X-Robots-Tag:noindex
X-PUBLISHED-TTL:PT1H
BEGIN:VTIMEZONE
TZID:UTC
BEGIN:STANDARD
TZOFFSETFROM:+0000
TZOFFSETTO:+0000
TZNAME:UTC
DTSTART:20240101T000000
END:STANDARD
END:VTIMEZONE
BEGIN:VEVENT
DTSTART;TZID=UTC:20251123T094500
DTEND;TZID=UTC:20251123T170000
DTSTAMP:20260419T215531
CREATED:20251028T134919Z
LAST-MODIFIED:20251028T154854Z
UID:7611-1763891100-1763917200@langewapper.be
SUMMARY:De Incredibles
DESCRIPTION:Bijeenkomst: 9u45 basis in Tip-top winteruniform \nMeebrengen: Lunch\, 4-uurtje en themakledij/speelkledij \nEinde: 17u basis
URL:https://langewapper.be/event/de-incredibles/
LOCATION:Basis\, Beatrijslijn 41\, Antwerpen\, 2050\, Belgium
CATEGORIES:Welpen
END:VEVENT
BEGIN:VEVENT
DTSTART;TZID=UTC:20251123T094500
DTEND;TZID=UTC:20251123T170000
DTSTAMP:20260419T215531
CREATED:20251028T141952Z
LAST-MODIFIED:20251028T141952Z
UID:7641-1763891100-1763917200@langewapper.be
SUMMARY:Zeilen? Niet in deze staat!
DESCRIPTION:Bijeenkomst: 9u45 basis in Tip-top winteruniform \nMeebrengen: Lunch\, 4-uurtje en WERKKLEDIJ \nEinde: 17u basis
URL:https://langewapper.be/event/zeilen-niet-in-deze-staat/
LOCATION:Basis\, Beatrijslijn 41\, Antwerpen\, 2050\, Belgium
CATEGORIES:Wolven
END:VEVENT
BEGIN:VEVENT
DTSTART;TZID=UTC:20251123T094500
DTEND;TZID=UTC:20251123T170000
DTSTAMP:20260419T215531
CREATED:20251028T152549Z
LAST-MODIFIED:20251028T152549Z
UID:7662-1763891100-1763917200@langewapper.be
SUMMARY:HITSERSSSSSSSSSSSSSSSSS
DESCRIPTION:Bijeenkomst: 9u45 basis in Tip-top winteruniform \nMeebrengen: Lunch\, 4-uurtje en werkkledij \nEinde: 17u basis
URL:https://langewapper.be/event/hitsersssssssssssssssss/
CATEGORIES:Juniors
END:VEVENT
BEGIN:VEVENT
DTSTART;TZID=UTC:20251123T094500
DTEND;TZID=UTC:20251123T170000
DTSTAMP:20260419T215531
CREATED:20251028T154336Z
LAST-MODIFIED:20251028T154336Z
UID:7671-1763891100-1763917200@langewapper.be
SUMMARY:Money\, money\, money must be funny
DESCRIPTION:Bijeenkomst: 9u45 basis in Tip-top winteruniform \nMeebrengen: Lunch\, 4-uurtje en speelkledij \nEinde: 17u basis
URL:https://langewapper.be/event/money-money-money-must-be-funny/
LOCATION:Basis\, Beatrijslijn 41\, Antwerpen\, 2050\, Belgium
CATEGORIES:Seniors
END:VEVENT
BEGIN:VEVENT
DTSTART;TZID=UTC:20251123T103000
DTEND;TZID=UTC:20251123T170000
DTSTAMP:20260419T215531
CREATED:20251028T151638Z
LAST-MODIFIED:20251111T195514Z
UID:7651-1763893800-1763917200@langewapper.be
SUMMARY:De lat ligt hoog vandaag!!
DESCRIPTION:Bijeenkomst: 10u30 Klimzaal Wallstreet in Tip-top winteruniform \nMeebrengen: Lunch\, 4-uurtje en speelkledij & €14\,- \nEinde: 17u op de basis \n  \nKlimzaal Wallstreet: Van Duyststraat 16 – 2100 Deurne (op een boogscheut van pre-metrostation ‘Sport’).
URL:https://langewapper.be/event/de-lat-ligt-hoog-vandaag/
LOCATION:Klimzaal Wallstreet\, Van Duyststraat 16\, Deurne\, 2100\, Belgium
CATEGORIES:Aspiranten
END:VEVENT
BEGIN:VEVENT
DTSTART;TZID=UTC:20251123T130000
DTEND;TZID=UTC:20251123T170000
DTSTAMP:20260419T215531
CREATED:20251028T111121Z
LAST-MODIFIED:20251120T063200Z
UID:7583-1763902800-1763917200@langewapper.be
SUMMARY:GARGAMEL WAT DOE JE NU??
DESCRIPTION:Bijeenkomst: 13u. basis in Tip-Top winteruniform \nMeebrengen: vieruurtje\, smurfen outfit en speelkledij \nEinde: 17u. basis
URL:https://langewapper.be/event/gargamel-wat-doe-je-nu/
CATEGORIES:Zeehonden
END:VEVENT
BEGIN:VEVENT
DTSTART;TZID=UTC:20251123T150000
DTEND;TZID=UTC:20251123T170000
DTSTAMP:20260419T215531
CREATED:20251029T144115Z
LAST-MODIFIED:20251029T165851Z
UID:7715-1763910000-1763917200@langewapper.be
SUMMARY:Geen Muziek in de Meermin : BenD heeft het optreden gecanceld
DESCRIPTION:  \n  \n 
URL:https://langewapper.be/event/muziek-in-de-meermin-bend/
CATEGORIES:Activiteiten,t.v.v. Scoutswerking
END:VEVENT
BEGIN:VEVENT
DTSTART;TZID=UTC:20251123T173000
DTEND;TZID=UTC:20251123T173000
DTSTAMP:20260419T215531
CREATED:20251028T082200Z
LAST-MODIFIED:20251028T082200Z
UID:7561-1763919000-1763919000@langewapper.be
SUMMARY:Wapperse kost : Els & Walter
DESCRIPTION:Savooiekoolstoemp met frikandellenkoek \nuw koks :Els & Walter
URL:https://langewapper.be/event/wapperse-kost-els-walter/
CATEGORIES:Wapperse Kost
END:VEVENT
END:VCALENDAR