BEGIN:VCALENDAR
VERSION:2.0
PRODID:-//FOS Lange Wapper - ECPv6.15.20//NONSGML v1.0//EN
CALSCALE:GREGORIAN
METHOD:PUBLISH
X-ORIGINAL-URL:https://langewapper.be
X-WR-CALDESC:Evenementen voor FOS Lange Wapper
REFRESH-INTERVAL;VALUE=DURATION:PT1H
X-Robots-Tag:noindex
X-PUBLISHED-TTL:PT1H
BEGIN:VTIMEZONE
TZID:UTC
BEGIN:STANDARD
TZOFFSETFROM:+0000
TZOFFSETTO:+0000
TZNAME:UTC
DTSTART:20240101T000000
END:STANDARD
END:VTIMEZONE
BEGIN:VEVENT
DTSTART;TZID=UTC:20251102T094500
DTEND;TZID=UTC:20251102T170000
DTSTAMP:20260419T215608
CREATED:20251028T134434Z
LAST-MODIFIED:20251028T155139Z
UID:7602-1762076700-1762102800@langewapper.be
SUMMARY:Kalenderdag: Amerika en Griekenland
DESCRIPTION:Bijeenkomst: 9u45 basis in Tip-top winteruniform \nMeebrengen: Lunch\, 4-uurtje en verkleedkleren voor Amerika & Griekenland \nEinde: 17u basis
URL:https://langewapper.be/event/kalenderdag-amerika-en-griekenland/
LOCATION:Basis\, Beatrijslijn 41\, Antwerpen\, 2050\, Belgium
CATEGORIES:Welpen
END:VEVENT
BEGIN:VEVENT
DTSTART;TZID=UTC:20251102T094500
DTEND;TZID=UTC:20251102T170000
DTSTAMP:20260419T215608
CREATED:20251028T150610Z
LAST-MODIFIED:20251028T150610Z
UID:7644-1762076700-1762102800@langewapper.be
SUMMARY:Kalenderdag: Italië en Oostenrijk
DESCRIPTION:Bijeenkomst: 9u45 basis in Tip-top winteruniform \nMeebrengen: Lunch\, 4-uurtje en speelkledij + je beste Italiaanse & Oostenrijkse kleren \nEinde: 17u basis
URL:https://langewapper.be/event/kalenderdag-italie-en-oostenrijk/
LOCATION:Basis\, Beatrijslijn 41\, Antwerpen\, 2050\, Belgium
CATEGORIES:Aspiranten
END:VEVENT
BEGIN:VEVENT
DTSTART;TZID=UTC:20251102T094500
DTEND;TZID=UTC:20251102T170000
DTSTAMP:20260419T215608
CREATED:20251028T152117Z
LAST-MODIFIED:20251028T152117Z
UID:7655-1762076700-1762102800@langewapper.be
SUMMARY:De Jeugd van Tegenwoordig
DESCRIPTION:Bijeenkomst: 9u45 basis in Tip-top winteruniform \nMeebrengen: Lunch\, 4-uurtje en speelkledij \nEinde: 17u basis
URL:https://langewapper.be/event/de-jeugd-van-tegenwoordig/
LOCATION:Basis\, Beatrijslijn 41\, Antwerpen\, 2050\, Belgium
CATEGORIES:Juniors
END:VEVENT
BEGIN:VEVENT
DTSTART;TZID=UTC:20251102T094500
DTEND;TZID=UTC:20251102T170000
DTSTAMP:20260419T215608
CREATED:20251028T153242Z
LAST-MODIFIED:20251028T153242Z
UID:7665-1762076700-1762102800@langewapper.be
SUMMARY:Travakkennnnnnn!!!
DESCRIPTION:Bijeenkomst: 9u45 basis in Tip-top winteruniform \nMeebrengen: Lunch\, 4-uurtje en speelkledij \nEinde: 17u basis
URL:https://langewapper.be/event/travakkennnnnnn/
LOCATION:Basis\, Beatrijslijn 41\, Antwerpen\, 2050\, Belgium
CATEGORIES:Seniors
END:VEVENT
BEGIN:VEVENT
DTSTART;TZID=UTC:20251102T113000
DTEND;TZID=UTC:20251102T161500
DTSTAMP:20260419T215608
CREATED:20251028T141347Z
LAST-MODIFIED:20251028T141347Z
UID:7635-1762083000-1762100100@langewapper.be
SUMMARY:Spitter spetter spater
DESCRIPTION:Bijeenkomst: 11u30 Zwembad Sportoase Groot Schijn \nMeebrengen: Lunch\, 4-uurtje\, €10\,- + (kids)ID & zwemkledij \nEinde: 16u15 Sportoase Groot Schijn \nAdres: Ruggeveldlaan 488 2100 Antwerpen \n  \nReglement zwemkledij stad Antwerpen: \n\nvoor de jongens een zwembroek of aansluitende zwemshort tot boven de knie zonder zakken\nvoor de meisjes een badpak of bikini tot boven de elleboog.\nDe zwemkledij moet aansluitend zijn en specifiek uit stof bestemd voor zwemmen gemaakt zijn.
URL:https://langewapper.be/event/spitter-spetter-spater/
CATEGORIES:Wolven
END:VEVENT
BEGIN:VEVENT
DTSTART;TZID=UTC:20251102T130000
DTEND;TZID=UTC:20251102T170000
DTSTAMP:20260419T215608
CREATED:20251028T105455Z
LAST-MODIFIED:20251028T120609Z
UID:7574-1762088400-1762102800@langewapper.be
SUMMARY:UN POCO LOCO
DESCRIPTION:Bijeenkomst: 13u. basis in Tip-Top winteruniform \nMeebrengen: vieruurtje en speelkledij \nEinde: 17u. basis
URL:https://langewapper.be/event/un-poco-loco/
LOCATION:Basis\, Beatrijslijn 41\, Antwerpen\, 2050\, Belgium
CATEGORIES:Zeehonden
END:VEVENT
BEGIN:VEVENT
DTSTART;TZID=UTC:20251102T173000
DTEND;TZID=UTC:20251102T173000
DTSTAMP:20260419T215608
CREATED:20251028T081657Z
LAST-MODIFIED:20251029T142936Z
UID:7555-1762104600-1762104600@langewapper.be
SUMMARY:Wapperse kost
DESCRIPTION:Spijtig genoeg is er vandaag geen Wapperse kost…
URL:https://langewapper.be/event/wapperse-kost/
CATEGORIES:Wapperse Kost
END:VEVENT
END:VCALENDAR